BEGIN:VCALENDAR
VERSION:2.0
PRODID:-//Kalamazoo / Battle Creek Chapter #302 | NAWIC - ECPv6.15.20//NONSGML v1.0//EN
CALSCALE:GREGORIAN
METHOD:PUBLISH
X-WR-CALNAME:Kalamazoo / Battle Creek Chapter #302 | NAWIC
X-ORIGINAL-URL:https://nawickalamazoobc.org
X-WR-CALDESC:Events for Kalamazoo / Battle Creek Chapter #302 | NAWIC
REFRESH-INTERVAL;VALUE=DURATION:PT1H
X-Robots-Tag:noindex
X-PUBLISHED-TTL:PT1H
BEGIN:VTIMEZONE
TZID:America/Detroit
BEGIN:DAYLIGHT
TZOFFSETFROM:-0500
TZOFFSETTO:-0400
TZNAME:EDT
DTSTART:20120311T070000
END:DAYLIGHT
BEGIN:STANDARD
TZOFFSETFROM:-0400
TZOFFSETTO:-0500
TZNAME:EST
DTSTART:20121104T060000
END:STANDARD
BEGIN:DAYLIGHT
TZOFFSETFROM:-0500
TZOFFSETTO:-0400
TZNAME:EDT
DTSTART:20130310T070000
END:DAYLIGHT
BEGIN:STANDARD
TZOFFSETFROM:-0400
TZOFFSETTO:-0500
TZNAME:EST
DTSTART:20131103T060000
END:STANDARD
BEGIN:DAYLIGHT
TZOFFSETFROM:-0500
TZOFFSETTO:-0400
TZNAME:EDT
DTSTART:20140309T070000
END:DAYLIGHT
BEGIN:STANDARD
TZOFFSETFROM:-0400
TZOFFSETTO:-0500
TZNAME:EST
DTSTART:20141102T060000
END:STANDARD
BEGIN:DAYLIGHT
TZOFFSETFROM:-0500
TZOFFSETTO:-0400
TZNAME:EDT
DTSTART:20150308T070000
END:DAYLIGHT
BEGIN:STANDARD
TZOFFSETFROM:-0400
TZOFFSETTO:-0500
TZNAME:EST
DTSTART:20151101T060000
END:STANDARD
BEGIN:DAYLIGHT
TZOFFSETFROM:-0500
TZOFFSETTO:-0400
TZNAME:EDT
DTSTART:20160313T070000
END:DAYLIGHT
BEGIN:STANDARD
TZOFFSETFROM:-0400
TZOFFSETTO:-0500
TZNAME:EST
DTSTART:20161106T060000
END:STANDARD
BEGIN:DAYLIGHT
TZOFFSETFROM:-0500
TZOFFSETTO:-0400
TZNAME:EDT
DTSTART:20170312T070000
END:DAYLIGHT
BEGIN:STANDARD
TZOFFSETFROM:-0400
TZOFFSETTO:-0500
TZNAME:EST
DTSTART:20171105T060000
END:STANDARD
BEGIN:DAYLIGHT
TZOFFSETFROM:-0500
TZOFFSETTO:-0400
TZNAME:EDT
DTSTART:20180311T070000
END:DAYLIGHT
BEGIN:STANDARD
TZOFFSETFROM:-0400
TZOFFSETTO:-0500
TZNAME:EST
DTSTART:20181104T060000
END:STANDARD
BEGIN:DAYLIGHT
TZOFFSETFROM:-0500
TZOFFSETTO:-0400
TZNAME:EDT
DTSTART:20190310T070000
END:DAYLIGHT
BEGIN:STANDARD
TZOFFSETFROM:-0400
TZOFFSETTO:-0500
TZNAME:EST
DTSTART:20191103T060000
END:STANDARD
BEGIN:DAYLIGHT
TZOFFSETFROM:-0500
TZOFFSETTO:-0400
TZNAME:EDT
DTSTART:20200308T070000
END:DAYLIGHT
BEGIN:STANDARD
TZOFFSETFROM:-0400
TZOFFSETTO:-0500
TZNAME:EST
DTSTART:20201101T060000
END:STANDARD
BEGIN:DAYLIGHT
TZOFFSETFROM:-0500
TZOFFSETTO:-0400
TZNAME:EDT
DTSTART:20210314T070000
END:DAYLIGHT
BEGIN:STANDARD
TZOFFSETFROM:-0400
TZOFFSETTO:-0500
TZNAME:EST
DTSTART:20211107T060000
END:STANDARD
BEGIN:DAYLIGHT
TZOFFSETFROM:-0500
TZOFFSETTO:-0400
TZNAME:EDT
DTSTART:20220313T070000
END:DAYLIGHT
BEGIN:STANDARD
TZOFFSETFROM:-0400
TZOFFSETTO:-0500
TZNAME:EST
DTSTART:20221106T060000
END:STANDARD
BEGIN:DAYLIGHT
TZOFFSETFROM:-0500
TZOFFSETTO:-0400
TZNAME:EDT
DTSTART:20230312T070000
END:DAYLIGHT
BEGIN:STANDARD
TZOFFSETFROM:-0400
TZOFFSETTO:-0500
TZNAME:EST
DTSTART:20231105T060000
END:STANDARD
BEGIN:DAYLIGHT
TZOFFSETFROM:-0500
TZOFFSETTO:-0400
TZNAME:EDT
DTSTART:20240310T070000
END:DAYLIGHT
BEGIN:STANDARD
TZOFFSETFROM:-0400
TZOFFSETTO:-0500
TZNAME:EST
DTSTART:20241103T060000
END:STANDARD
END:VTIMEZONE
BEGIN:VEVENT
DTSTART;TZID=America/Detroit:20230305T080000
DTEND;TZID=America/Detroit:20230311T170000
DTSTAMP:20260423T165321
CREATED:20230210T220824Z
LAST-MODIFIED:20230302T013659Z
UID:10000003-1678003200-1678554000@nawickalamazoobc.org
SUMMARY:25th Annual Women in Construction Week
DESCRIPTION:Plan to join the chapter in person at SME on March 9 (or register for any of the WIC Week Events hosted by NAWIC Michigan and NAWIC national below) \n\n\n\nSME is hosting our chapter (and guests) for a membership meeting to participate in a zoom event and lab tour:\n\n\n\nEstablish Balance & Avoid Burnout – zoom meeting\n\n\n\nMarch 9 at 1:30 – 4:00 p.m. EST  See more event information\n\n\n\n \n\n\n\nMore WIC WEEK EVENTS\n\n\n\n\nWear Red on Friday March 10  (open to members and non-members)\nPhoto contest\, due March 11 (open to members and non-members)\n\nFriday March 10 –  Meet. Mix. Mingle. – 5pm-8pm\nGraduate Hotel in Lansing.  NAWIC Lansing is sponsoring appetizers\, cash bar\nTickets here – eventbrite\nSaturday March 11 – Michigan Women & Skilled Trade Summit\no   Hosted by NAWIC Michigan (4 chapters) at the Laborer Union Training Center near Lansing\no   Unions and AGC are event partners\, along with sponsorship from NAWIC Kalamazoo\no   open to all – $52.50 non-member\, $0 member of NAWIC\n  Tickets here – eventbrite\n\n\n\n\n\nWomen in Construction Week | ‘Many Paths\, One Mission’| National Events\n \n \n\n\n\n\n \n \n \n \n Share this:\n				Share on X (Opens in new window)\n				X\n			\n				Share on Facebook (Opens in new window)\n				Facebook\n			\n				Share on LinkedIn (Opens in new window)\n				LinkedIn\n			\n				Print (Opens in new window)\n				Print
URL:https://nawickalamazoobc.org/event_view/25th-annual-women-in-construction-week/
CATEGORIES:National and North Central Region meetings
ATTACH;FMTTYPE=image/png:https://nawickalamazoobc.org/wp-content/uploads/2023/02/NAWIC-Many-Paths-One-Mission-with-date-e1676057779234.png
END:VEVENT
BEGIN:VEVENT
DTSTART;TZID=America/Detroit:20201106T080000
DTEND;TZID=America/Detroit:20201107T170000
DTSTAMP:20260423T165321
CREATED:20201021T195508Z
LAST-MODIFIED:20201026T131113Z
UID:10000026-1604649600-1604768400@nawickalamazoobc.org
SUMMARY:North Central Region Virtual Fall Conference '20
DESCRIPTION:A special opportunity for you to virtually meet and interact with fellow NAWIC North Central Region members and colleagues in the construction industry during lunch breaks and at designated times through each day of the Virtual Conference. You definitely won’t want to miss out on these! \n\n\n\nMore   https://www.nawic4.org/ \n\n\n\n \n\n\n\n\n\n\n\n\n\n\n\n\nShare this:\n				Share on X (Opens in new window)\n				X\n			\n				Share on Facebook (Opens in new window)\n				Facebook\n			\n				Share on LinkedIn (Opens in new window)\n				LinkedIn\n			\n				Print (Opens in new window)\n				Print
URL:https://nawickalamazoobc.org/event_view/north-central-region-virtual-fall-conference-20/
CATEGORIES:National and North Central Region meetings
ATTACH;FMTTYPE=image/png:https://nawickalamazoobc.org/wp-content/uploads/2020/08/fall_conference.png
END:VEVENT
BEGIN:VEVENT
DTSTART;VALUE=DATE:20191017
DTEND;VALUE=DATE:20191020
DTSTAMP:20260423T165321
CREATED:20190906T132215Z
LAST-MODIFIED:20201021T195032Z
UID:10000017-1571270400-1571529599@nawickalamazoobc.org
SUMMARY:North Central Region Fall Conference
DESCRIPTION:Conference schedule and registration \nHotel and location \n\n\n\n\nShare this:\n				Share on X (Opens in new window)\n				X\n			\n				Share on Facebook (Opens in new window)\n				Facebook\n			\n				Share on LinkedIn (Opens in new window)\n				LinkedIn\n			\n				Print (Opens in new window)\n				Print
URL:https://nawickalamazoobc.org/event_view/north-central-region-fall-conference/
LOCATION:MI
CATEGORIES:National and North Central Region meetings
GEO:37.1651374;-95.111255
END:VEVENT
BEGIN:VEVENT
DTSTART;VALUE=DATE:20190517
DTEND;VALUE=DATE:20190519
DTSTAMP:20260423T165321
CREATED:20190212T022913Z
LAST-MODIFIED:20190212T024508Z
UID:10000023-1558051200-1558223999@nawickalamazoobc.org
SUMMARY:Construction Industry Forum & Conference
DESCRIPTION:MICHIGAN | OHIO | INDIANA I KENTUCKY | WESTERN PENNSYLVANIA | WEST VIRGINIA \nGather\, engage and innovate with representatives from construction-related firms throughout the North Central Region. You will have the opportunity to learn trends within construction industry and expand professional skills. Network and develop relationships with industry professionals as you join NAWIC to Inspire\, Ignite\, Collaborate\, Innovate and Lead with authenticity in our industry. \nCall for Speakers and Sponsorships Available | Reserve your room early to secure a spot in the room block. \nAdditional information forms can be found below as well as a sign-up portal here www.NAWIC4.org. \nRegistration Form – NAWIC NCR Spring Construction Industry Forum & Conference \nSponsorship Form – NAWIC NCR Spring Construction Industry Forum & Conference  \n   Call for speakers – download \nShare this:\n				Share on X (Opens in new window)\n				X\n			\n				Share on Facebook (Opens in new window)\n				Facebook\n			\n				Share on LinkedIn (Opens in new window)\n				LinkedIn\n			\n				Print (Opens in new window)\n				Print
URL:https://nawickalamazoobc.org/event_view/may-17-18-forum-conference/
CATEGORIES:National and North Central Region meetings
END:VEVENT
BEGIN:VEVENT
DTSTART;VALUE=DATE:20181101
DTEND;VALUE=DATE:20181103
DTSTAMP:20260423T165321
CREATED:20180924T201240Z
LAST-MODIFIED:20180924T202212Z
UID:10000027-1541030400-1541203199@nawickalamazoobc.org
SUMMARY:NAWIC North Central Region APC
DESCRIPTION:Dates\n\nThu\, Nov 1\, 2018\, 4:00 – 8:00 PM \nFri\, Nov 2\, 2018\, 8:00 AM – 5:00 PM  \n\nView the AGENDA\nLocation\n\nRenaissance Toledo Downtown Hotel \n444 North Summit Street \nToledo\, OH 43604 \n\nOnline registration at Eventbrite: \nDownload the mail-in registration \n\n \n\n \n \n\n \n\nShare this:\n				Share on X (Opens in new window)\n				X\n			\n				Share on Facebook (Opens in new window)\n				Facebook\n			\n				Share on LinkedIn (Opens in new window)\n				LinkedIn\n			\n				Print (Opens in new window)\n				Print
URL:https://nawickalamazoobc.org/event_view/nawic-north-central-region-apc/
LOCATION:MI
CATEGORIES:National and North Central Region meetings
GEO:37.1651374;-95.111255
END:VEVENT
BEGIN:VEVENT
DTSTART;VALUE=DATE:20171103
DTEND;VALUE=DATE:20171105
DTSTAMP:20260423T165321
CREATED:20170922T205836Z
LAST-MODIFIED:20170925T125418Z
UID:10000040-1509667200-1509839999@nawickalamazoobc.org
SUMMARY:North Central Region Fall Conference
DESCRIPTION:Location:  Louisville\, KY \nDate: November 3-4\, 2017 \nRegistration and more information: \n\n  \nShare this:\n				Share on X (Opens in new window)\n				X\n			\n				Share on Facebook (Opens in new window)\n				Facebook\n			\n				Share on LinkedIn (Opens in new window)\n				LinkedIn\n			\n				Print (Opens in new window)\n				Print
URL:https://nawickalamazoobc.org/event_view/5525/
CATEGORIES:National and North Central Region meetings
END:VEVENT
BEGIN:VEVENT
DTSTART;TZID=America/Detroit:20130828T080000
DTEND;TZID=America/Detroit:20130831T170000
DTSTAMP:20260423T165321
CREATED:20130617T182934Z
LAST-MODIFIED:20130702T233640Z
UID:10000049-1377676800-1377968400@nawickalamazoobc.org
SUMMARY:NAWIC 58th Annual Meeting and Educational Conference
DESCRIPTION:  \n \nThe NAWIC 58th Annual Meeting and Educational Conference (AMEC) to be held in the Pacific Northwest at the HyattRegency in Bellevue\, Wash.\, Aug. 28–31\, 2013. Download the NAWIC AMEC promotional flyer \nShare this:\n				Share on X (Opens in new window)\n				X\n			\n				Share on Facebook (Opens in new window)\n				Facebook\n			\n				Share on LinkedIn (Opens in new window)\n				LinkedIn\n			\n				Print (Opens in new window)\n				Print
URL:https://nawickalamazoobc.org/event_view/1348/
LOCATION:Hyatt Regency\, 900 Bellevue Way\, NE\, Bellevue\, WA\, 98004\, United States
CATEGORIES:National and North Central Region meetings
GEO:47.61828;-122.201031
X-APPLE-STRUCTURED-LOCATION;VALUE=URI;X-ADDRESS=Hyatt Regency 900 Bellevue Way NE Bellevue WA 98004 United States;X-APPLE-RADIUS=500;X-TITLE=900 Bellevue Way\, NE:geo:-122.201031,47.61828
END:VEVENT
END:VCALENDAR