BEGIN:VCALENDAR
VERSION:2.0
PRODID:-//Kalamazoo / Battle Creek Chapter #302 | NAWIC - ECPv6.15.20//NONSGML v1.0//EN
CALSCALE:GREGORIAN
METHOD:PUBLISH
X-ORIGINAL-URL:https://nawickalamazoobc.org
X-WR-CALDESC:Events for Kalamazoo / Battle Creek Chapter #302 | NAWIC
REFRESH-INTERVAL;VALUE=DURATION:PT1H
X-Robots-Tag:noindex
X-PUBLISHED-TTL:PT1H
BEGIN:VTIMEZONE
TZID:America/Detroit
BEGIN:DAYLIGHT
TZOFFSETFROM:-0500
TZOFFSETTO:-0400
TZNAME:EDT
DTSTART:20120311T070000
END:DAYLIGHT
BEGIN:STANDARD
TZOFFSETFROM:-0400
TZOFFSETTO:-0500
TZNAME:EST
DTSTART:20121104T060000
END:STANDARD
BEGIN:DAYLIGHT
TZOFFSETFROM:-0500
TZOFFSETTO:-0400
TZNAME:EDT
DTSTART:20130310T070000
END:DAYLIGHT
BEGIN:STANDARD
TZOFFSETFROM:-0400
TZOFFSETTO:-0500
TZNAME:EST
DTSTART:20131103T060000
END:STANDARD
BEGIN:DAYLIGHT
TZOFFSETFROM:-0500
TZOFFSETTO:-0400
TZNAME:EDT
DTSTART:20140309T070000
END:DAYLIGHT
BEGIN:STANDARD
TZOFFSETFROM:-0400
TZOFFSETTO:-0500
TZNAME:EST
DTSTART:20141102T060000
END:STANDARD
END:VTIMEZONE
BEGIN:VEVENT
DTSTART;TZID=America/Detroit:20130906T094500
DTEND;TZID=America/Detroit:20130906T163000
DTSTAMP:20260423T221927
CREATED:20130613T233535Z
LAST-MODIFIED:20130917T153521Z
UID:10000048-1378460700-1378485000@nawickalamazoobc.org
SUMMARY:Annual Joint Golf Outing AIA/NAWIC/CFMA
DESCRIPTION:Golf | Friends | Food | Prizes  | Sunshine (we hope)\nHere it is again golfers\, the best joint golf outing in the construction industry. Join your friends and colleagues for a relaxing day of fun with every swing\,along with networking opportunities! \nAll players from novice to experienced are welcome to play. \nFriday\, September 6\, 2013Heritage Glen Golf Club\, Paw Paw\, MichiganShotgun Start at 10:00 a.m. (please\, soft spikes only)Download the entry form | For further information contact Carol Patridge (269) 329-7007 \nAIA Southwest Michigan (American Institute of Architects)  \nCFMA (Construction Financial Management Association) Western Michigan Chapter \nNAWIC Kalamazoo/Battle Creek chapter #302 \nShare this:\n				Share on X (Opens in new window)\n				X\n			\n				Share on Facebook (Opens in new window)\n				Facebook\n			\n				Share on LinkedIn (Opens in new window)\n				LinkedIn\n			\n				Print (Opens in new window)\n				Print
URL:https://nawickalamazoobc.org/event_view/1320/
LOCATION:Heritage Glen Golf Club\, 29795 Heritage Ln\, Paw Paw\, MI\, 49079 \, United States
CATEGORIES:NAWIC membership meeting
GEO:42.2524927;-85.8425351
X-APPLE-STRUCTURED-LOCATION;VALUE=URI;X-ADDRESS=Heritage Glen Golf Club 29795 Heritage Ln Paw Paw MI 49079  United States;X-APPLE-RADIUS=500;X-TITLE=29795 Heritage Ln:geo:-85.8425351,42.2524927
END:VEVENT
BEGIN:VEVENT
DTSTART;TZID=America/Detroit:20130807T173000
DTEND;TZID=America/Detroit:20130807T200000
DTSTAMP:20260423T221927
CREATED:20130520T214410Z
LAST-MODIFIED:20130703T211600Z
UID:10000052-1375896600-1375905600@nawickalamazoobc.org
SUMMARY:2013 State of Michigan Joint NAWIC Meeting
DESCRIPTION:Join Kalamazoo/Battle Creek Chapter #302 as we celebrate 30 years at the statewide meeting. We will learn about recent construction projects—a residential community and a casino and conference center\, both by a tribal government—and have a little fun with our sister chapters of Michigan. FireKeepers features 242 resort style guest rooms with easy access located right off I-94 in Battle Creek\, Michigan. \nWe have two projects to present: Wightman & Associates is speaking about Pine Creek Reservation and Clark Construction is presenting the FireKeepers project. Flyer download & reservation form for joint meeting  \nQuestions? Send us a message online or call Juliana Garner (269) 569-9333 \n \n  \n\n  \nShare this:\n				Share on X (Opens in new window)\n				X\n			\n				Share on Facebook (Opens in new window)\n				Facebook\n			\n				Share on LinkedIn (Opens in new window)\n				LinkedIn\n			\n				Print (Opens in new window)\n				Print
URL:https://nawickalamazoobc.org/event_view/the-new-firekeepers-casino-hotel-and-event-center/
LOCATION:FireKeepers | Casino Hotel and Event Center\, 11177 E Michigan Ave\, Battle Creek\, MI\, 49014\, United States
CATEGORIES:NAWIC membership meeting
GEO:42.2972243;-85.0805069
X-APPLE-STRUCTURED-LOCATION;VALUE=URI;X-ADDRESS=FireKeepers | Casino Hotel and Event Center 11177 E Michigan Ave Battle Creek MI 49014 United States;X-APPLE-RADIUS=500;X-TITLE=11177 E Michigan Ave:geo:-85.0805069,42.2972243
END:VEVENT
BEGIN:VEVENT
DTSTART;TZID=America/Detroit:20130717T180000
DTEND;TZID=America/Detroit:20130717T203000
DTSTAMP:20260423T221927
CREATED:20130611T235017Z
LAST-MODIFIED:20130626T180059Z
UID:10000053-1374084000-1374093000@nawickalamazoobc.org
SUMMARY:Chapter planning for 2013-14
DESCRIPTION:Help chart the course of the new 2013-14 NAWIC  year*\nCome to our annual Chapter Planning Meeting. \nWe need your help to shape the new NAWIC year. Download the meeting flyer(*the actual year kicks off in October 2013) \n\nbring ideas or suggestions for speakers\, speaker topics\, meeting venues\, etc.\nshare any thoughts you may have about what you’d like to see happening in our chapter.\n\nThe meeting and boat cruise will be held In South Haven\, with dinner and beverages provided by our host\, Carol and Doug Patridge. \nPlease RSVP online by July 15\, 2013 and plan on ridesharing.  or call Juliana Garner (269) 569-9333 \n  \n\n  \nShare this:\n				Share on X (Opens in new window)\n				X\n			\n				Share on Facebook (Opens in new window)\n				Facebook\n			\n				Share on LinkedIn (Opens in new window)\n				LinkedIn\n			\n				Print (Opens in new window)\n				Print
URL:https://nawickalamazoobc.org/event_view/chapter-planning-meeting/
LOCATION:Carol’s boat “In the Net” at Boat Yard Basin Marina\, slip #10\, 40 N Bailey Ave\, South Haven\, MI\, 49090\, United States
CATEGORIES:NAWIC membership meeting
GEO:42.4123793;-86.2642749
X-APPLE-STRUCTURED-LOCATION;VALUE=URI;X-ADDRESS=Carol’s boat “In the Net” at Boat Yard Basin Marina slip #10 40 N Bailey Ave South Haven MI 49090 United States;X-APPLE-RADIUS=500;X-TITLE=40 N Bailey Ave:geo:-86.2642749,42.4123793
END:VEVENT
BEGIN:VEVENT
DTSTART;TZID=America/Detroit:20130619T173000
DTEND;TZID=America/Detroit:20130619T193000
DTSTAMP:20260423T221927
CREATED:20130519T093059Z
LAST-MODIFIED:20130618T232337Z
UID:10000059-1371663000-1371670200@nawickalamazoobc.org
SUMMARY:Tour of Hark Orchids Facility
DESCRIPTION:  \nTour of Hark Orchid\, Dinner\, White Elephant Exchange/ NEF Fundraiser\nHark Orchids\, also known as Hark Orchideen\, is a family owned German firm that is funding the construction of this new facility that will house its orchid propagation operation in the United States. The facility is expected to mean 50 new jobs by the summer of 2013 to the Kalamazoo community and about 25 more in the following months. The facility currently under construction will be a 35\,000-square-foot structure with specialized features designed to accommodate orchid propagation including a 30\,000-square-foot laboratory and climatic chambers facility. CSM Group and Hark Orchids will be our tour guides.  View printable version (PDF) \nSafety: Please wear pants (no shorts\, skirts\, or dresses). Please wear closed toe shoes that will allow for shoe covers. \nAfter the tour: Dinner\, Installation of New Members\, and our Annual White Elephant Exchange at Brewsters Restaurant \nPlease bring with a gift that you were given that you would like to re-gift ($10-$20 value range). The re-gifts should be wrapped as temptingly as possible as they will be put up for auction during the dinner. Proceeds of the auction will be donated to the NAWIC Education Fund (NEF) www.nawiceducation.org.  Print flyer: Tour of Hark Orchids (PDF) \nPlease RSVP online by June 17\, 2013 for the tour and dinner (run your own tab at dinner) or call Juliana Garner (269) 569-9333 \n\n  \nShare this:\n				Share on X (Opens in new window)\n				X\n			\n				Share on Facebook (Opens in new window)\n				Facebook\n			\n				Share on LinkedIn (Opens in new window)\n				LinkedIn\n			\n				Print (Opens in new window)\n				Print
URL:https://nawickalamazoobc.org/event_view/tour-of-hawk-orchids/
LOCATION:Hark Orchid (at MidLink)\,  5200 Old Cork St\, Kalamazoo\, Kalamazoo\, MI\, 49048\, United States
CATEGORIES:NAWIC membership meeting
GEO:42.2589529;-85.5271053
X-APPLE-STRUCTURED-LOCATION;VALUE=URI;X-ADDRESS=Hark Orchid (at MidLink)  5200 Old Cork St Kalamazoo Kalamazoo MI 49048 United States;X-APPLE-RADIUS=500;X-TITLE=5200 Old Cork St\, Kalamazoo:geo:-85.5271053,42.2589529
END:VEVENT
BEGIN:VEVENT
DTSTART;TZID=America/Detroit:20130529T173000
DTEND;TZID=America/Detroit:20130529T203000
DTSTAMP:20260423T221927
CREATED:20130420T010445Z
LAST-MODIFIED:20130614T195115Z
UID:10000057-1369848600-1369859400@nawickalamazoobc.org
SUMMARY:Construction Appreciation Awards | Celebrating our 30th Year
DESCRIPTION:2013 VISION AWARDS: \n♦ Innovation Vision – Hark Orchids ♦ Crystal Vision Award – Ladies Library Association \n♦ Community Vision Award – ROI\, Great Lake Center for Autism Treatment and Research \n \nShare this:\n				Share on X (Opens in new window)\n				X\n			\n				Share on Facebook (Opens in new window)\n				Facebook\n			\n				Share on LinkedIn (Opens in new window)\n				LinkedIn\n			\n				Print (Opens in new window)\n				Print
URL:https://nawickalamazoobc.org/event_view/construction-appreciation-awards/
LOCATION:CityScape\, 125 S Kalamazoo Mall\, Kalamazoo\, MI\, 49007
CATEGORIES:NAWIC membership meeting
GEO:42.2909156;-85.5831206
X-APPLE-STRUCTURED-LOCATION;VALUE=URI;X-ADDRESS=CityScape 125 S Kalamazoo Mall Kalamazoo MI 49007;X-APPLE-RADIUS=500;X-TITLE=125 S Kalamazoo Mall:geo:-85.5831206,42.2909156
END:VEVENT
END:VCALENDAR