BEGIN:VCALENDAR
VERSION:2.0
PRODID:-//Kalamazoo / Battle Creek Chapter #302 | NAWIC - ECPv6.15.20//NONSGML v1.0//EN
CALSCALE:GREGORIAN
METHOD:PUBLISH
X-WR-CALNAME:Kalamazoo / Battle Creek Chapter #302 | NAWIC
X-ORIGINAL-URL:https://nawickalamazoobc.org
X-WR-CALDESC:Events for Kalamazoo / Battle Creek Chapter #302 | NAWIC
REFRESH-INTERVAL;VALUE=DURATION:PT1H
X-Robots-Tag:noindex
X-PUBLISHED-TTL:PT1H
BEGIN:VTIMEZONE
TZID:America/Detroit
BEGIN:DAYLIGHT
TZOFFSETFROM:-0500
TZOFFSETTO:-0400
TZNAME:EDT
DTSTART:20230312T070000
END:DAYLIGHT
BEGIN:STANDARD
TZOFFSETFROM:-0400
TZOFFSETTO:-0500
TZNAME:EST
DTSTART:20231105T060000
END:STANDARD
BEGIN:DAYLIGHT
TZOFFSETFROM:-0500
TZOFFSETTO:-0400
TZNAME:EDT
DTSTART:20240310T070000
END:DAYLIGHT
BEGIN:STANDARD
TZOFFSETFROM:-0400
TZOFFSETTO:-0500
TZNAME:EST
DTSTART:20241103T060000
END:STANDARD
BEGIN:DAYLIGHT
TZOFFSETFROM:-0500
TZOFFSETTO:-0400
TZNAME:EDT
DTSTART:20250309T070000
END:DAYLIGHT
BEGIN:STANDARD
TZOFFSETFROM:-0400
TZOFFSETTO:-0500
TZNAME:EST
DTSTART:20251102T060000
END:STANDARD
BEGIN:DAYLIGHT
TZOFFSETFROM:-0500
TZOFFSETTO:-0400
TZNAME:EDT
DTSTART:20260308T070000
END:DAYLIGHT
BEGIN:STANDARD
TZOFFSETFROM:-0400
TZOFFSETTO:-0500
TZNAME:EST
DTSTART:20261101T060000
END:STANDARD
BEGIN:DAYLIGHT
TZOFFSETFROM:-0500
TZOFFSETTO:-0400
TZNAME:EDT
DTSTART:20270314T070000
END:DAYLIGHT
BEGIN:STANDARD
TZOFFSETFROM:-0400
TZOFFSETTO:-0500
TZNAME:EST
DTSTART:20271107T060000
END:STANDARD
END:VTIMEZONE
BEGIN:VEVENT
DTSTART;TZID=America/Detroit:20240131T170000
DTEND;TZID=America/Detroit:20240131T190000
DTSTAMP:20260424T064452
CREATED:20240120T214924Z
LAST-MODIFIED:20240120T230641Z
UID:10000062-1706720400-1706727600@nawickalamazoobc.org
SUMMARY:January 31: Social Hour
DESCRIPTION:Join us for a casual and relaxing social event. Invite a guest\, the appetizers are on us!\n\n\n\n\n\n\nShare this:\n				Share on X (Opens in new window)\n				X\n			\n				Share on Facebook (Opens in new window)\n				Facebook\n			\n				Share on LinkedIn (Opens in new window)\n				LinkedIn\n			\n				Print (Opens in new window)\n				Print
URL:https://nawickalamazoobc.org/event_view/january-31-social-hour/
LOCATION:Presidential Brewing Company\, 8302 Portage Rd\, Portage\, Michigan\, 49002
CATEGORIES:NAWIC membership meeting
ATTACH;FMTTYPE=image/png:https://nawickalamazoobc.org/wp-content/uploads/2024/01/Happy-Hour-Flyer-2024-01.31-e1705785287574.png
END:VEVENT
BEGIN:VEVENT
DTSTART;TZID=America/Detroit:20240418T160000
DTEND;TZID=America/Detroit:20240418T170000
DTSTAMP:20260424T064452
CREATED:20240402T185114Z
LAST-MODIFIED:20240415T211034Z
UID:10000063-1713456000-1713459600@nawickalamazoobc.org
SUMMARY:Apr 18: Tour the Road Commission of Kalamazoo County's new building!
DESCRIPTION:Join NAWIC and ASCE for a site tour of the new RCKC building!\n\n\n\nNotice for attendees: wear closed toe footwear appropriate for walking. Full PPE is not required\, but the tour will include a lot of walking around inside and outside the buildings.Please RSVP to Myndi Bacon at HERE if you plan to attend so we can have an accurate head count. \n\n\n\nJoin us for social hour following the tour at Trak Houz Bar & Gill\, 5003 Park Cir Dr\, Kalamazoo\, MI 49048 \n\n\n\n\n\n\nShare this:\n				Share on X (Opens in new window)\n				X\n			\n				Share on Facebook (Opens in new window)\n				Facebook\n			\n				Share on LinkedIn (Opens in new window)\n				LinkedIn\n			\n				Print (Opens in new window)\n				Print
URL:https://nawickalamazoobc.org/event_view/site-tour-of-the-road-commission-of-kalamazoo-countys-new-building/
LOCATION:Road Commission of Kalamazoo County\, 4400 S 26th\, Kalamazoo\, Michigan\, 49048\, United States
CATEGORIES:NAWIC membership meeting
ATTACH;FMTTYPE=image/jpeg:https://nawickalamazoobc.org/wp-content/uploads/2024/04/kalamazoo_road-commission.jpg
END:VEVENT
BEGIN:VEVENT
DTSTART;TZID=America/Detroit:20240808T150000
DTEND;TZID=America/Detroit:20240808T163000
DTSTAMP:20260424T064452
CREATED:20240720T202554Z
LAST-MODIFIED:20240720T204607Z
UID:10000064-1723129200-1723134600@nawickalamazoobc.org
SUMMARY:Aug 8: Dunbar Hall Renovation and Addition Tour by AIA Southwest Michigan
DESCRIPTION:Let’s join the AIA Southwest Michigan to tour the completed Dunbar Hall renovation/addition at Western Michgian University\, by TowerPinkster! \n\n\n\n\n\n\n\n\n\n\n\n\n\n\n\n\nShare this:\n				Share on X (Opens in new window)\n				X\n			\n				Share on Facebook (Opens in new window)\n				Facebook\n			\n				Share on LinkedIn (Opens in new window)\n				LinkedIn\n			\n				Print (Opens in new window)\n				Print
URL:https://nawickalamazoobc.org/event_view/aug-8-dunbar-hall-renovation-and-addition-tour-by-aia-southwest-michigan/
LOCATION:MI
CATEGORIES:NAWIC membership meeting
ATTACH;FMTTYPE=image/jpeg:https://nawickalamazoobc.org/wp-content/uploads/2024/07/dunbar_aug_2024.jpg
END:VEVENT
BEGIN:VEVENT
DTSTART;TZID=America/Detroit:20250115T113000
DTEND;TZID=America/Detroit:20250115T130000
DTSTAMP:20260424T064452
CREATED:20250106T020935Z
LAST-MODIFIED:20251229T223004Z
UID:10000066-1736940600-1736946000@nawickalamazoobc.org
SUMMARY:Environmental Considerations in Construction: RSVP Now
DESCRIPTION:Let’s get together!\n\n\n\n\nProject Siting – Environmental Considerations in Construction\n\n\n\n\n\n\n\n\n\n\nNAWIC Grand Rapids is hosting a new event\, and we’d love to see you there.\non January 15\, 2025\, at 11:30 AM.\n\n\nVirtual attendees will receive the ZOOM information after you have RSVP’d | Cost: $10\n\n\nIn-person with lunch included available until January 13 | Cost $20\n\n\n** Click the registration button below for more information  **\n\n\n\n\n\n\n\n\n\n\n\n\n\n\nShare this:\n				Share on X (Opens in new window)\n				X\n			\n				Share on Facebook (Opens in new window)\n				Facebook\n			\n				Share on LinkedIn (Opens in new window)\n				LinkedIn\n			\n				Print (Opens in new window)\n				Print
URL:https://nawickalamazoobc.org/event_view/environmental-considerations-in-construction-rsvp-now/
LOCATION:MI
CATEGORIES:NAWIC membership meeting
ATTACH;FMTTYPE=image/jpeg:https://nawickalamazoobc.org/wp-content/uploads/2025/01/grand_rapids-_nawic-logo.jpg
END:VEVENT
BEGIN:VEVENT
DTSTART;TZID=America/Detroit:20250131T120000
DTEND;TZID=America/Detroit:20250131T120000
DTSTAMP:20260424T064452
CREATED:20241205T014934Z
LAST-MODIFIED:20251229T222950Z
UID:10000065-1738324800-1738324800@nawickalamazoobc.org
SUMMARY:Apply for 2024 AGC Michigan Scholarships Now
DESCRIPTION:Apply Today | Deadline: January 31 2025 \n\n\n\n\n\n\n\n2024 – 2025 Scholarship Awards\n\n\n\nLandon Gardella\, MSU  |  Leon P. Clark Memorial Undergraduate ScholarshipAlicja Grzegorzek\, MTU  |  Louis C. Verrette Memorial Undergraduate ScholarshipMarcus Chidester\, NMU  |  Gary L. Shannon Memorial ScholarshipAdam Serratos\, MSU  |   Alton L. Granger Undergraduate ScholarshipJarrett Funk\, EMU  |  O.L. Pfaffmann Construction Industry ScholarshipBruce Scott\, NMU  |  H.L. “Bud” Conrad Memorial Undergraduate Scholarship \n\n\n\nPLUS Twenty-five additional students from EMU\, FSU\, NMU\, MSU\, MTU\, UM and Kettering received AGC Michigan EEF scholarships.  \n\n\n\n\n\n\n\n\n\n\nShare this:\n				Share on X (Opens in new window)\n				X\n			\n				Share on Facebook (Opens in new window)\n				Facebook\n			\n				Share on LinkedIn (Opens in new window)\n				LinkedIn\n			\n				Print (Opens in new window)\n				Print
URL:https://nawickalamazoobc.org/event_view/apply-for-2024-agc-michigan-scholarships-now/
LOCATION:MI
CATEGORIES:NAWIC membership meeting
ATTACH;FMTTYPE=image/jpeg:https://nawickalamazoobc.org/wp-content/uploads/2024/12/dec_24_agc.jpg
END:VEVENT
BEGIN:VEVENT
DTSTART;TZID=America/Detroit:20250305T113000
DTEND;TZID=America/Detroit:20250305T130000
DTSTAMP:20260424T064452
CREATED:20250228T004418Z
LAST-MODIFIED:20251229T222926Z
UID:10000067-1741174200-1741179600@nawickalamazoobc.org
SUMMARY:Women in Construction Week |  Let's Get Together - Grand Rapids
DESCRIPTION:NAWIC Grand Rapids would like to invite you to our annual Women In Construction Appreciation Luncheon. This year will be having a Panel Discussion. \n\n\n\n\nTopic: Women as Leaders: Pioneering Change and Making an Impact\n\n\n\n\n\nLocation: Watermark Country Club 1600 Galbraith Avenue Southeast Grand Rapids\, MI 49546\nor Virtual \n\n\n\n\n\n\n\n\n\n\n\n\n\nShare this:\n				Share on X (Opens in new window)\n				X\n			\n				Share on Facebook (Opens in new window)\n				Facebook\n			\n				Share on LinkedIn (Opens in new window)\n				LinkedIn\n			\n				Print (Opens in new window)\n				Print
URL:https://nawickalamazoobc.org/event_view/women-in-construction-week-lets-get-together-grand-rapids/
LOCATION:MI
CATEGORIES:NAWIC membership meeting
END:VEVENT
BEGIN:VEVENT
DTSTART;TZID=America/Detroit:20260114T150000
DTEND;TZID=America/Detroit:20260114T170000
DTSTAMP:20260424T064452
CREATED:20251229T221633Z
LAST-MODIFIED:20251229T224050Z
UID:10000068-1768402800-1768410000@nawickalamazoobc.org
SUMMARY:Jan 14: Let’s get together - Grand Rapids
DESCRIPTION:Topic: Top 10 Construction Contract Clauses \n  \n \nDOWNLOAD THE FLYER >\n\n\n\n\n\n\n\n\n\n\n\nLocation: Triangle Associates Inc 3769 3 Mile Road NW Grand Rapids\, MI 49534  (or Virtual)\n\n\n\n\n\n\nNAWIC Grand Rapids would like to invite you to this meeting in a hybrid format\, with both an in-person and virtual option. There will be room for 30 people to attend in person. Appetizers are included for all in-person attendees. Virtual attendees will receive the ZOOM information after they have RSVP’d.We hope you will be able to join us for what should be an informative presentation! \n\n\n\n\n\n\n\n\n\n\n\n\nShare this:\n				Share on X (Opens in new window)\n				X\n			\n				Share on Facebook (Opens in new window)\n				Facebook\n			\n				Share on LinkedIn (Opens in new window)\n				LinkedIn\n			\n				Print (Opens in new window)\n				Print
URL:https://nawickalamazoobc.org/event_view/lets-get-together-grand-rapids/
LOCATION:MI
CATEGORIES:NAWIC membership meeting
ATTACH;FMTTYPE=image/png:https://nawickalamazoobc.org/wp-content/uploads/2025/12/contracts_jan_26.png
END:VEVENT
BEGIN:VEVENT
DTSTART;TZID=America/Detroit:20260131T080000
DTEND;TZID=America/Detroit:20260131T120000
DTSTAMP:20260424T064452
CREATED:20260119T000646Z
LAST-MODIFIED:20260130T201706Z
UID:10000069-1769846400-1769860800@nawickalamazoobc.org
SUMMARY:2026 Block Kids
DESCRIPTION:Participants will use interlocking blocks to build their own unique structures. Local industry professionals will judge entries\, and winners may advance to regional competition! \n\n\n\nEvent Details:📅 Date: Saturday\, January 31\, 2026🕙 Time: 9a – Noon📍 Location: Climax-Scotts Elementary School🎯 Who Can Participate: Kids in grades K–6💲 Cost: FREE! Please register by January 23 \n\n\n\n\nMore details and register HERE\n\n\n\n\nParticipants will use interlocking blocks to build their own unique structures. Local industry professionals will judge entries\, and winners may advance to regional competition! \nThe Block Kids Building Program is a national building competition supported by the NAWIC Education Foundation. The program is open to all students in Kindergarten through grade 6.The Block Kids Building Program will be held on Saturday\, January 31. The free event will take place from 8 am to noon at the Climax-Scotts Elementary School.Each participant will receive a t-shirt. Prizes will be awarded to one winner at each grade level. Additionally\, there will be an overall winner.Please register by JANUARY 23We need judges. We are also looking for sponsors. If you are interested in judging or sponsoring this competition\, there is a form for you too!NAWIC Chapter 302 invites kids in grades K–6 to participate in our Block Kids Building Program on Saturday\, January 31\, 2026. This fun\, hands-on event introduces children to the exciting world of construction through creativity and problem-solving. \n\n\n\nWhy Attend? \n\n\n\n\nSpark interest in construction careers\n\n\n\nEncourage creativity and critical thinking\n\n\n\nFun prizes and recognition\n\n\n\n\nWays to Help:✅ Judges: Evaluate creative building projects and encourage participants.✅ Event Volunteers: Assist with registration\, guiding participants\, and event setup. \n\n\n\n\nReady to Make an Impact? \n  \n\n\n\nShare this:\n				Share on X (Opens in new window)\n				X\n			\n				Share on Facebook (Opens in new window)\n				Facebook\n			\n				Share on LinkedIn (Opens in new window)\n				LinkedIn\n			\n				Print (Opens in new window)\n				Print
URL:https://nawickalamazoobc.org/event_view/2026-block-kids/
LOCATION:MI
CATEGORIES:NAWIC membership meeting
ATTACH;FMTTYPE=image/png:https://nawickalamazoobc.org/wp-content/uploads/2026/01/blockids_socialv2.png
END:VEVENT
END:VCALENDAR