BEGIN:VCALENDAR
VERSION:2.0
PRODID:-//Kalamazoo / Battle Creek Chapter #302 | NAWIC - ECPv6.15.20//NONSGML v1.0//EN
CALSCALE:GREGORIAN
METHOD:PUBLISH
X-WR-CALNAME:Kalamazoo / Battle Creek Chapter #302 | NAWIC
X-ORIGINAL-URL:https://nawickalamazoobc.org
X-WR-CALDESC:Events for Kalamazoo / Battle Creek Chapter #302 | NAWIC
REFRESH-INTERVAL;VALUE=DURATION:PT1H
X-Robots-Tag:noindex
X-PUBLISHED-TTL:PT1H
BEGIN:VTIMEZONE
TZID:America/Detroit
BEGIN:DAYLIGHT
TZOFFSETFROM:-0500
TZOFFSETTO:-0400
TZNAME:EDT
DTSTART:20150308T070000
END:DAYLIGHT
BEGIN:STANDARD
TZOFFSETFROM:-0400
TZOFFSETTO:-0500
TZNAME:EST
DTSTART:20151101T060000
END:STANDARD
BEGIN:DAYLIGHT
TZOFFSETFROM:-0500
TZOFFSETTO:-0400
TZNAME:EDT
DTSTART:20160313T070000
END:DAYLIGHT
BEGIN:STANDARD
TZOFFSETFROM:-0400
TZOFFSETTO:-0500
TZNAME:EST
DTSTART:20161106T060000
END:STANDARD
BEGIN:DAYLIGHT
TZOFFSETFROM:-0500
TZOFFSETTO:-0400
TZNAME:EDT
DTSTART:20170312T070000
END:DAYLIGHT
BEGIN:STANDARD
TZOFFSETFROM:-0400
TZOFFSETTO:-0500
TZNAME:EST
DTSTART:20171105T060000
END:STANDARD
END:VTIMEZONE
BEGIN:VEVENT
DTSTART;TZID=America/Detroit:20161005T173000
DTEND;TZID=America/Detroit:20161005T200000
DTSTAMP:20260423T163759
CREATED:20160805T183412Z
LAST-MODIFIED:20160920T153618Z
UID:10000042-1475688600-1475697600@nawickalamazoobc.org
SUMMARY:Officer Installation 2016-17
DESCRIPTION:  \nDana Samardzich\, PCC\, CPC with Optimal Balance Coaching will be our guest speaker at our annual Officer Installation.  \nREGISTER HERE» \nDana is a life coach who specializes in working with professional women to help them achieve work-life balance using mindfulness. \n Mindfulness is the most direct approach to happiness. When we learn to pay attention to the good in our lives\, when we practice gratitude\, or we practice loving kindness to others\, we become more patient and happy.  We don’t have to wait for happiness to come from outside of us.  We learn to cultivate happiness from inside ourselves. Dana will help us understand how mindfulness is used for positive team interactions and finding meaning in your work. \nIMPORTANT – October is the start of the new NAWIC year when will install our new board and also have a welcome gift for new members or members who were unable to attend last year’s installation and have not yet received their gift.  So please make an effort to attend so you can meet all of our members and the new board. (Guests are welcome – please join us!!) \nShare this:\n				Share on X (Opens in new window)\n				X\n			\n				Share on Facebook (Opens in new window)\n				Facebook\n			\n				Share on LinkedIn (Opens in new window)\n				LinkedIn\n			\n				Print (Opens in new window)\n				Print
URL:https://nawickalamazoobc.org/event_view/officer-installation-2016-17/
LOCATION:TBA
CATEGORIES:NAWIC membership meeting
ORGANIZER;CN="Myndi Bacon":MAILTO:myndi.bacon@sme-usa.com
END:VEVENT
END:VCALENDAR