BEGIN:VCALENDAR
VERSION:2.0
PRODID:-//Kalamazoo / Battle Creek Chapter #302 | NAWIC - ECPv6.15.20//NONSGML v1.0//EN
CALSCALE:GREGORIAN
METHOD:PUBLISH
X-ORIGINAL-URL:https://nawickalamazoobc.org
X-WR-CALDESC:Events for Kalamazoo / Battle Creek Chapter #302 | NAWIC
REFRESH-INTERVAL;VALUE=DURATION:PT1H
X-Robots-Tag:noindex
X-PUBLISHED-TTL:PT1H
BEGIN:VTIMEZONE
TZID:America/Detroit
BEGIN:DAYLIGHT
TZOFFSETFROM:-0500
TZOFFSETTO:-0400
TZNAME:EDT
DTSTART:20170312T070000
END:DAYLIGHT
BEGIN:STANDARD
TZOFFSETFROM:-0400
TZOFFSETTO:-0500
TZNAME:EST
DTSTART:20171105T060000
END:STANDARD
BEGIN:DAYLIGHT
TZOFFSETFROM:-0500
TZOFFSETTO:-0400
TZNAME:EDT
DTSTART:20180311T070000
END:DAYLIGHT
BEGIN:STANDARD
TZOFFSETFROM:-0400
TZOFFSETTO:-0500
TZNAME:EST
DTSTART:20181104T060000
END:STANDARD
BEGIN:DAYLIGHT
TZOFFSETFROM:-0500
TZOFFSETTO:-0400
TZNAME:EDT
DTSTART:20190310T070000
END:DAYLIGHT
BEGIN:STANDARD
TZOFFSETFROM:-0400
TZOFFSETTO:-0500
TZNAME:EST
DTSTART:20191103T060000
END:STANDARD
END:VTIMEZONE
BEGIN:VEVENT
DTSTART;TZID=America/Detroit:20180921T093000
DTEND;TZID=America/Detroit:20180921T163000
DTSTAMP:20260423T181144
CREATED:20180615T184250Z
LAST-MODIFIED:20180727T194227Z
UID:10000031-1537522200-1537547400@nawickalamazoobc.org
SUMMARY:24th Annual Golf Outing – Joint with AIA/NAWIC/CFMA
DESCRIPTION:When: September 21\, 2018  |  Registration: 8:30 am | Shotgun: 9:30 am \nWhere: Heritage Glen Golf Club\, 29795 Heritage Lane\, Paw Paw\, MI 49079\, USA\nGolf | Friends | Food | Prizes | Sunshine (we hope)\nHere it is again golfers\, the best joint association golf outing in the construction industry.  Join your friends and colleagues for a relaxing day of fun with every swing\,  along with sponsorship and networking opportunities!\nAll players from novice to experienced are welcome to play. All proceeds to benefit scholarships. \nTo join in the fun\, please send the golf invitation completed registration form by September 5th\nDownload the registration form here↓        Questions? Call Carol Patridge: (269) 329-7007 \n \nShare this:\n				Share on X (Opens in new window)\n				X\n			\n				Share on Facebook (Opens in new window)\n				Facebook\n			\n				Share on LinkedIn (Opens in new window)\n				LinkedIn\n			\n				Print (Opens in new window)\n				Print
URL:https://nawickalamazoobc.org/event_view/golf-outing-joint-with-aianawiccfma-2/
LOCATION:MI
CATEGORIES:NAWIC membership meeting
GEO:37.0764944;-94.6395363
END:VEVENT
END:VCALENDAR