BEGIN:VCALENDAR
VERSION:2.0
PRODID:-//Kalamazoo / Battle Creek Chapter #302 | NAWIC - ECPv6.15.20//NONSGML v1.0//EN
CALSCALE:GREGORIAN
METHOD:PUBLISH
X-WR-CALNAME:Kalamazoo / Battle Creek Chapter #302 | NAWIC
X-ORIGINAL-URL:https://nawickalamazoobc.org
X-WR-CALDESC:Events for Kalamazoo / Battle Creek Chapter #302 | NAWIC
REFRESH-INTERVAL;VALUE=DURATION:PT1H
X-Robots-Tag:noindex
X-PUBLISHED-TTL:PT1H
BEGIN:VTIMEZONE
TZID:America/Detroit
BEGIN:DAYLIGHT
TZOFFSETFROM:-0500
TZOFFSETTO:-0400
TZNAME:EDT
DTSTART:20170312T070000
END:DAYLIGHT
BEGIN:STANDARD
TZOFFSETFROM:-0400
TZOFFSETTO:-0500
TZNAME:EST
DTSTART:20171105T060000
END:STANDARD
BEGIN:DAYLIGHT
TZOFFSETFROM:-0500
TZOFFSETTO:-0400
TZNAME:EDT
DTSTART:20180311T070000
END:DAYLIGHT
BEGIN:STANDARD
TZOFFSETFROM:-0400
TZOFFSETTO:-0500
TZNAME:EST
DTSTART:20181104T060000
END:STANDARD
BEGIN:DAYLIGHT
TZOFFSETFROM:-0500
TZOFFSETTO:-0400
TZNAME:EDT
DTSTART:20190310T070000
END:DAYLIGHT
BEGIN:STANDARD
TZOFFSETFROM:-0400
TZOFFSETTO:-0500
TZNAME:EST
DTSTART:20191103T060000
END:STANDARD
END:VTIMEZONE
BEGIN:VEVENT
DTSTART;TZID=America/Detroit:20181110T100000
DTEND;TZID=America/Detroit:20181110T110000
DTSTAMP:20260423T175748
CREATED:20181030T195909Z
LAST-MODIFIED:20181030T195955Z
UID:10000029-1541844000-1541847600@nawickalamazoobc.org
SUMMARY:Dream Big Film - A Community Outreach Event
DESCRIPTION:Share this:\n				Share on X (Opens in new window)\n				X\n			\n				Share on Facebook (Opens in new window)\n				Facebook\n			\n				Share on LinkedIn (Opens in new window)\n				LinkedIn\n			\n				Print (Opens in new window)\n				Print
URL:https://nawickalamazoobc.org/event_view/dream-big-film/
LOCATION:MI
CATEGORIES:NAWIC membership meeting
GEO:37.1651374;-95.111255
END:VEVENT
END:VCALENDAR