BEGIN:VCALENDAR
VERSION:2.0
PRODID:-//Kalamazoo / Battle Creek Chapter #302 | NAWIC - ECPv6.15.20//NONSGML v1.0//EN
CALSCALE:GREGORIAN
METHOD:PUBLISH
X-WR-CALNAME:Kalamazoo / Battle Creek Chapter #302 | NAWIC
X-ORIGINAL-URL:https://nawickalamazoobc.org
X-WR-CALDESC:Events for Kalamazoo / Battle Creek Chapter #302 | NAWIC
REFRESH-INTERVAL;VALUE=DURATION:PT1H
X-Robots-Tag:noindex
X-PUBLISHED-TTL:PT1H
BEGIN:VTIMEZONE
TZID:America/Detroit
BEGIN:DAYLIGHT
TZOFFSETFROM:-0500
TZOFFSETTO:-0400
TZNAME:EDT
DTSTART:20180311T070000
END:DAYLIGHT
BEGIN:STANDARD
TZOFFSETFROM:-0400
TZOFFSETTO:-0500
TZNAME:EST
DTSTART:20181104T060000
END:STANDARD
BEGIN:DAYLIGHT
TZOFFSETFROM:-0500
TZOFFSETTO:-0400
TZNAME:EDT
DTSTART:20190310T070000
END:DAYLIGHT
BEGIN:STANDARD
TZOFFSETFROM:-0400
TZOFFSETTO:-0500
TZNAME:EST
DTSTART:20191103T060000
END:STANDARD
BEGIN:DAYLIGHT
TZOFFSETFROM:-0500
TZOFFSETTO:-0400
TZNAME:EDT
DTSTART:20200308T070000
END:DAYLIGHT
BEGIN:STANDARD
TZOFFSETFROM:-0400
TZOFFSETTO:-0500
TZNAME:EST
DTSTART:20201101T060000
END:STANDARD
END:VTIMEZONE
BEGIN:VEVENT
DTSTART;TZID=America/Detroit:20191029T173000
DTEND;TZID=America/Detroit:20191029T203000
DTSTAMP:20260423T180753
CREATED:20191014T145151Z
LAST-MODIFIED:20191015T150322Z
UID:10000019-1572370200-1572381000@nawickalamazoobc.org
SUMMARY:October 29 NAWIC event
DESCRIPTION:Our chapter is volunteering to help Cadette\, Senior and Ambassador Program Aides lead younger Girl Scouts in hands-on science activities. Limited to NAWIC members only \nBy October 23\, please complete the online registration here\nGirl Scouts’ Spooky Science event details:\n• Light meal served and officer installation before activity (no charge)\n• Halloween costumes are encouraged!\n• An evening of ooey\, gooey\, creepy experiments and hands-on community outreach\n• Event is limited to NAWIC members only \nOfficer installation\, dinner and parking:\n5:30 – Azon 643 W Crosstown Parkway (across the street from Girl Scout location)\nEvent venue:\n6:30 – 8:30 -Spooky Science\nKalamazoo Regional Center\, Girl Scouts\n601 W Maple St\nKalamazoo\, MI 49008 \nShare this:\n				Share on X (Opens in new window)\n				X\n			\n				Share on Facebook (Opens in new window)\n				Facebook\n			\n				Share on LinkedIn (Opens in new window)\n				LinkedIn\n			\n				Print (Opens in new window)\n				Print
URL:https://nawickalamazoobc.org/event_view/october-29-nawic-event/
LOCATION:MI
CATEGORIES:NAWIC membership meeting
GEO:37.1651374;-95.111255
END:VEVENT
END:VCALENDAR