BEGIN:VCALENDAR
VERSION:2.0
PRODID:-//Kalamazoo / Battle Creek Chapter #302 | NAWIC - ECPv6.15.20//NONSGML v1.0//EN
CALSCALE:GREGORIAN
METHOD:PUBLISH
X-ORIGINAL-URL:https://nawickalamazoobc.org
X-WR-CALDESC:Events for Kalamazoo / Battle Creek Chapter #302 | NAWIC
REFRESH-INTERVAL;VALUE=DURATION:PT1H
X-Robots-Tag:noindex
X-PUBLISHED-TTL:PT1H
BEGIN:VTIMEZONE
TZID:America/Detroit
BEGIN:DAYLIGHT
TZOFFSETFROM:-0500
TZOFFSETTO:-0400
TZNAME:EDT
DTSTART:20180311T070000
END:DAYLIGHT
BEGIN:STANDARD
TZOFFSETFROM:-0400
TZOFFSETTO:-0500
TZNAME:EST
DTSTART:20181104T060000
END:STANDARD
BEGIN:DAYLIGHT
TZOFFSETFROM:-0500
TZOFFSETTO:-0400
TZNAME:EDT
DTSTART:20190310T070000
END:DAYLIGHT
BEGIN:STANDARD
TZOFFSETFROM:-0400
TZOFFSETTO:-0500
TZNAME:EST
DTSTART:20191103T060000
END:STANDARD
BEGIN:DAYLIGHT
TZOFFSETFROM:-0500
TZOFFSETTO:-0400
TZNAME:EDT
DTSTART:20200308T070000
END:DAYLIGHT
BEGIN:STANDARD
TZOFFSETFROM:-0400
TZOFFSETTO:-0500
TZNAME:EST
DTSTART:20201101T060000
END:STANDARD
END:VTIMEZONE
BEGIN:VEVENT
DTSTART;TZID=America/Detroit:20191211T180000
DTEND;TZID=America/Detroit:20191211T210000
DTSTAMP:20260423T194213
CREATED:20191209T161146Z
LAST-MODIFIED:20230302T003915Z
UID:10000020-1576087200-1576098000@nawickalamazoobc.org
SUMMARY:Dec 11 NAWIC Holiday Gathering and Ornament Exchange
DESCRIPTION:Please join us for NAWIC’s annual Holiday gathering! REGISTER HERE\n\n\n\n\n\n\nAbout this Event:\n\n\nWednesday\, December 11\, 2019\nFestivities begin at 6:00 pm\n600 Kitchen and Bar\n600 E Michigan Ave\, Kalamazoo\, MI 49007 \nPlease bring a wrapped ornament to swap! \n(each individual will be responsible for their bill for dinner) \n\n\n\n\n\n\n\nShare this:\n				Share on X (Opens in new window)\n				X\n			\n				Share on Facebook (Opens in new window)\n				Facebook\n			\n				Share on LinkedIn (Opens in new window)\n				LinkedIn\n			\n				Print (Opens in new window)\n				Print
URL:https://nawickalamazoobc.org/event_view/dec-11-nawic-holiday-gathering-and-ornament-exchange/
LOCATION:MI
CATEGORIES:NAWIC membership meeting
ATTACH;FMTTYPE=image/jpeg:https://nawickalamazoobc.org/wp-content/uploads/2013/11/ornament-e1418765997674.jpg
GEO:37.09024;-95.712891
END:VEVENT
END:VCALENDAR