BEGIN:VCALENDAR
VERSION:2.0
PRODID:-//Kalamazoo / Battle Creek Chapter #302 | NAWIC - ECPv6.15.20//NONSGML v1.0//EN
CALSCALE:GREGORIAN
METHOD:PUBLISH
X-ORIGINAL-URL:https://nawickalamazoobc.org
X-WR-CALDESC:Events for Kalamazoo / Battle Creek Chapter #302 | NAWIC
REFRESH-INTERVAL;VALUE=DURATION:PT1H
X-Robots-Tag:noindex
X-PUBLISHED-TTL:PT1H
BEGIN:VTIMEZONE
TZID:America/Detroit
BEGIN:DAYLIGHT
TZOFFSETFROM:-0500
TZOFFSETTO:-0400
TZNAME:EDT
DTSTART:20160313T070000
END:DAYLIGHT
BEGIN:STANDARD
TZOFFSETFROM:-0400
TZOFFSETTO:-0500
TZNAME:EST
DTSTART:20161106T060000
END:STANDARD
BEGIN:DAYLIGHT
TZOFFSETFROM:-0500
TZOFFSETTO:-0400
TZNAME:EDT
DTSTART:20170312T070000
END:DAYLIGHT
BEGIN:STANDARD
TZOFFSETFROM:-0400
TZOFFSETTO:-0500
TZNAME:EST
DTSTART:20171105T060000
END:STANDARD
BEGIN:DAYLIGHT
TZOFFSETFROM:-0500
TZOFFSETTO:-0400
TZNAME:EDT
DTSTART:20180311T070000
END:DAYLIGHT
BEGIN:STANDARD
TZOFFSETFROM:-0400
TZOFFSETTO:-0500
TZNAME:EST
DTSTART:20181104T060000
END:STANDARD
END:VTIMEZONE
BEGIN:VEVENT
DTSTART;TZID=America/Detroit:20171220T173000
DTEND;TZID=America/Detroit:20171220T200000
DTSTAMP:20260423T164049
CREATED:20171115T145741Z
LAST-MODIFIED:20171120T210225Z
UID:10000014-1513791000-1513800000@nawickalamazoobc.org
SUMMARY:Holiday Gathering: AIA & NAWIC Chapters
DESCRIPTION:Join the Southwest Michigan American Institute of Architects and Kalamazoo/Battle Creek Chapter\n  of the National Association of Women and Construction for a holiday dinner and networking event! \n· Date: Wednesday\, December 20\, 2017\n · Time: 5:30 p.m.\n · Location: Casa Bolero\, 116 Portage Street\, Kalamazoo\, MI 49007 \nCONTACTS: AIA: Doug Milburn (269) 350-0942 \n or NAWIC: Suzanne Grix (269) 364-1917 \n Register HERE (Evenbrite) no later than December 15\nAgenda\n o   5:30 – Gather\, guacamole and salsa bar\n o   6:00 – Buffet dinner served\, chicken/steak/black bean fajitas\n o   7:00– Optional NEF Ornament Exchange (bring $10 and a wrapped ornament to the event to participate—all proceeds to go to the NAWIC Education Foundation)\n o   8:00 – Adjourn \n  \n\n\n Holiday ornament game of “Switch • Steal • Unwrap” \nRules: Each attendee brings a wrapped ornament. At the event\, each person who brought a wrapped ornament pays $10 to play a dice game. \nThe proceeds benefit the NEF (NAWIC Education Foundation). Founded in 1972\, NEF has enacted several programs and contests created to foster and promote construction as a viable career choice among young people from grade school to high school. Locally\, the NAWIC Chapter participates in the annual Block Kids Lego contest for grades K-6 and the CAD|Drafting and Design program for high school students. \n  \nShare this:\n				Share on X (Opens in new window)\n				X\n			\n				Share on Facebook (Opens in new window)\n				Facebook\n			\n				Share on LinkedIn (Opens in new window)\n				LinkedIn\n			\n				Print (Opens in new window)\n				Print
URL:https://nawickalamazoobc.org/event_view/december-20/
LOCATION:Casa Bolero\, 116 Portage Street\, Kalamazoo\, MI\, 49007\, United States
CATEGORIES:NAWIC membership meeting
GEO:42.2914151;-85.5817123
X-APPLE-STRUCTURED-LOCATION;VALUE=URI;X-ADDRESS=Casa Bolero 116 Portage Street Kalamazoo MI 49007 United States;X-APPLE-RADIUS=500;X-TITLE=116 Portage Street:geo:-85.5817123,42.2914151
END:VEVENT
END:VCALENDAR