BEGIN:VCALENDAR
VERSION:2.0
PRODID:-//Kalamazoo / Battle Creek Chapter #302 | NAWIC - ECPv6.15.20//NONSGML v1.0//EN
CALSCALE:GREGORIAN
METHOD:PUBLISH
X-ORIGINAL-URL:https://nawickalamazoobc.org
X-WR-CALDESC:Events for Kalamazoo / Battle Creek Chapter #302 | NAWIC
REFRESH-INTERVAL;VALUE=DURATION:PT1H
X-Robots-Tag:noindex
X-PUBLISHED-TTL:PT1H
BEGIN:VTIMEZONE
TZID:America/Detroit
BEGIN:DAYLIGHT
TZOFFSETFROM:-0500
TZOFFSETTO:-0400
TZNAME:EDT
DTSTART:20120311T070000
END:DAYLIGHT
BEGIN:STANDARD
TZOFFSETFROM:-0400
TZOFFSETTO:-0500
TZNAME:EST
DTSTART:20121104T060000
END:STANDARD
BEGIN:DAYLIGHT
TZOFFSETFROM:-0500
TZOFFSETTO:-0400
TZNAME:EDT
DTSTART:20130310T070000
END:DAYLIGHT
BEGIN:STANDARD
TZOFFSETFROM:-0400
TZOFFSETTO:-0500
TZNAME:EST
DTSTART:20131103T060000
END:STANDARD
BEGIN:DAYLIGHT
TZOFFSETFROM:-0500
TZOFFSETTO:-0400
TZNAME:EDT
DTSTART:20140309T070000
END:DAYLIGHT
BEGIN:STANDARD
TZOFFSETFROM:-0400
TZOFFSETTO:-0500
TZNAME:EST
DTSTART:20141102T060000
END:STANDARD
END:VTIMEZONE
BEGIN:VEVENT
DTSTART;TZID=America/Detroit:20130529T173000
DTEND;TZID=America/Detroit:20130529T203000
DTSTAMP:20260423T145950
CREATED:20130420T010445Z
LAST-MODIFIED:20130614T195115Z
UID:10000057-1369848600-1369859400@nawickalamazoobc.org
SUMMARY:Construction Appreciation Awards | Celebrating our 30th Year
DESCRIPTION:2013 VISION AWARDS: \n♦ Innovation Vision – Hark Orchids ♦ Crystal Vision Award – Ladies Library Association \n♦ Community Vision Award – ROI\, Great Lake Center for Autism Treatment and Research \n \nShare this:\n				Share on X (Opens in new window)\n				X\n			\n				Share on Facebook (Opens in new window)\n				Facebook\n			\n				Share on LinkedIn (Opens in new window)\n				LinkedIn\n			\n				Print (Opens in new window)\n				Print
URL:https://nawickalamazoobc.org/event_view/construction-appreciation-awards/
LOCATION:CityScape\, 125 S Kalamazoo Mall\, Kalamazoo\, MI\, 49007
CATEGORIES:NAWIC membership meeting
GEO:42.2909156;-85.5831206
X-APPLE-STRUCTURED-LOCATION;VALUE=URI;X-ADDRESS=CityScape 125 S Kalamazoo Mall Kalamazoo MI 49007;X-APPLE-RADIUS=500;X-TITLE=125 S Kalamazoo Mall:geo:-85.5831206,42.2909156
END:VEVENT
END:VCALENDAR