BEGIN:VCALENDAR
VERSION:2.0
PRODID:-//Kalamazoo / Battle Creek Chapter #302 | NAWIC - ECPv6.15.20//NONSGML v1.0//EN
CALSCALE:GREGORIAN
METHOD:PUBLISH
X-ORIGINAL-URL:https://nawickalamazoobc.org
X-WR-CALDESC:Events for Kalamazoo / Battle Creek Chapter #302 | NAWIC
REFRESH-INTERVAL;VALUE=DURATION:PT1H
X-Robots-Tag:noindex
X-PUBLISHED-TTL:PT1H
BEGIN:VTIMEZONE
TZID:America/Detroit
BEGIN:DAYLIGHT
TZOFFSETFROM:-0500
TZOFFSETTO:-0400
TZNAME:EDT
DTSTART:20160313T070000
END:DAYLIGHT
BEGIN:STANDARD
TZOFFSETFROM:-0400
TZOFFSETTO:-0500
TZNAME:EST
DTSTART:20161106T060000
END:STANDARD
BEGIN:DAYLIGHT
TZOFFSETFROM:-0500
TZOFFSETTO:-0400
TZNAME:EDT
DTSTART:20170312T070000
END:DAYLIGHT
BEGIN:STANDARD
TZOFFSETFROM:-0400
TZOFFSETTO:-0500
TZNAME:EST
DTSTART:20171105T060000
END:STANDARD
BEGIN:DAYLIGHT
TZOFFSETFROM:-0500
TZOFFSETTO:-0400
TZNAME:EDT
DTSTART:20180311T070000
END:DAYLIGHT
BEGIN:STANDARD
TZOFFSETFROM:-0400
TZOFFSETTO:-0500
TZNAME:EST
DTSTART:20181104T060000
END:STANDARD
BEGIN:DAYLIGHT
TZOFFSETFROM:-0500
TZOFFSETTO:-0400
TZNAME:EDT
DTSTART:20190310T070000
END:DAYLIGHT
BEGIN:STANDARD
TZOFFSETFROM:-0400
TZOFFSETTO:-0500
TZNAME:EST
DTSTART:20191103T060000
END:STANDARD
BEGIN:DAYLIGHT
TZOFFSETFROM:-0500
TZOFFSETTO:-0400
TZNAME:EDT
DTSTART:20200308T070000
END:DAYLIGHT
BEGIN:STANDARD
TZOFFSETFROM:-0400
TZOFFSETTO:-0500
TZNAME:EST
DTSTART:20201101T060000
END:STANDARD
BEGIN:DAYLIGHT
TZOFFSETFROM:-0500
TZOFFSETTO:-0400
TZNAME:EDT
DTSTART:20210314T070000
END:DAYLIGHT
BEGIN:STANDARD
TZOFFSETFROM:-0400
TZOFFSETTO:-0500
TZNAME:EST
DTSTART:20211107T060000
END:STANDARD
END:VTIMEZONE
BEGIN:VEVENT
DTSTART;TZID=America/Detroit:20200905T083000
DTEND;TZID=America/Detroit:20200905T093000
DTSTAMP:20260423T164134
CREATED:20190926T151903Z
LAST-MODIFIED:20200804T212118Z
UID:10000018-1599294600-1599298200@nawickalamazoobc.org
SUMMARY:Canceled: NAWIC Habitat Volunteer Day '20
DESCRIPTION:Postponed for now!!! \nComing in 2020 –  Help NAWIC build it!  Habitat for Humanity believes that decent shelter in our own communities should be a matter of conscience and action for all. Participate in any manner which you are comfortable\, have a great time and feel good about your contribution. Guests are welcome to join us! Click the link to learn more – all participants \nShare this:\n				Share on X (Opens in new window)\n				X\n			\n				Share on Facebook (Opens in new window)\n				Facebook\n			\n				Share on LinkedIn (Opens in new window)\n				LinkedIn\n			\n				Print (Opens in new window)\n				Print
URL:https://nawickalamazoobc.org/event_view/nawic-habitat-volunteer-day-19/
LOCATION:Habitat (Warehouse)\, 1718 Fulford St\, Kalamazoo\, MI\, 49001\, United States
CATEGORIES:NAWIC membership meeting
ATTACH;FMTTYPE=image/png:https://nawickalamazoobc.org/wp-content/uploads/2019/09/may_habitat_20-e1583869898447.png
GEO:42.2746485;-85.5582034
X-APPLE-STRUCTURED-LOCATION;VALUE=URI;X-ADDRESS=Habitat (Warehouse) 1718 Fulford St Kalamazoo MI 49001 United States;X-APPLE-RADIUS=500;X-TITLE=1718 Fulford St:geo:-85.5582034,42.2746485
END:VEVENT
BEGIN:VEVENT
DTSTART;TZID=America/Detroit:20171118T081500
DTEND;TZID=America/Detroit:20171118T153000
DTSTAMP:20260423T164134
CREATED:20171013T202553Z
LAST-MODIFIED:20171102T203350Z
UID:10000041-1510992900-1511019000@nawickalamazoobc.org
SUMMARY:NAWIC Habitat Volunteer Day
DESCRIPTION:Our chapter is volunteering with the Kalamazoo Valley Habitat for Humanity for a hands-on community outreach and networking event. \nIf you have volunteered with Kalamazoo Valley Habitat for Humanity within the past year\, you only need to register with us! \nRegister (Evenbrite) HERE \nFor volunteers who have worked with Habitat more than a year ago\, please complete the Waiver of Liability \nImportant first time volunteers: Complete the volunteer orientation following the steps on this page by November 10. \nOn Volunteer Day: \n8:15 AM -3:30 PM : After meeting at the warehouse we will travel to the worksite (includes a 15-munute safety presentation).\n We can carpool from the warehouse to the worksite and tackle our tasks for the day.  We will have a one hour lunch break and have lunch together at a nearby location. \nPlease consider coming out\, participating in any manner which you are comfortable\, have a great time and feel great about your contribution! Please review attire requirements on Habitat website.  Safety glasses are required and will be provided if you do not have your own. \nGuests are welcome to join us! \nShare this:\n				Share on X (Opens in new window)\n				X\n			\n				Share on Facebook (Opens in new window)\n				Facebook\n			\n				Share on LinkedIn (Opens in new window)\n				LinkedIn\n			\n				Print (Opens in new window)\n				Print
URL:https://nawickalamazoobc.org/event_view/november-18-habitat-volunteer-day/
LOCATION:Habitat (Warehouse)\, 1718 Fulford St\, Kalamazoo\, MI\, 49001\, United States
CATEGORIES:NAWIC membership meeting
GEO:42.2746485;-85.5582034
X-APPLE-STRUCTURED-LOCATION;VALUE=URI;X-ADDRESS=Habitat (Warehouse) 1718 Fulford St Kalamazoo MI 49001 United States;X-APPLE-RADIUS=500;X-TITLE=1718 Fulford St:geo:-85.5582034,42.2746485
END:VEVENT
END:VCALENDAR