BEGIN:VCALENDAR
VERSION:2.0
PRODID:-//Kalamazoo / Battle Creek Chapter #302 | NAWIC - ECPv6.15.20//NONSGML v1.0//EN
CALSCALE:GREGORIAN
METHOD:PUBLISH
X-ORIGINAL-URL:https://nawickalamazoobc.org
X-WR-CALDESC:Events for Kalamazoo / Battle Creek Chapter #302 | NAWIC
REFRESH-INTERVAL;VALUE=DURATION:PT1H
X-Robots-Tag:noindex
X-PUBLISHED-TTL:PT1H
BEGIN:VTIMEZONE
TZID:America/Detroit
BEGIN:DAYLIGHT
TZOFFSETFROM:-0500
TZOFFSETTO:-0400
TZNAME:EDT
DTSTART:20120311T070000
END:DAYLIGHT
BEGIN:STANDARD
TZOFFSETFROM:-0400
TZOFFSETTO:-0500
TZNAME:EST
DTSTART:20121104T060000
END:STANDARD
BEGIN:DAYLIGHT
TZOFFSETFROM:-0500
TZOFFSETTO:-0400
TZNAME:EDT
DTSTART:20130310T070000
END:DAYLIGHT
BEGIN:STANDARD
TZOFFSETFROM:-0400
TZOFFSETTO:-0500
TZNAME:EST
DTSTART:20131103T060000
END:STANDARD
BEGIN:DAYLIGHT
TZOFFSETFROM:-0500
TZOFFSETTO:-0400
TZNAME:EDT
DTSTART:20140309T070000
END:DAYLIGHT
BEGIN:STANDARD
TZOFFSETFROM:-0400
TZOFFSETTO:-0500
TZNAME:EST
DTSTART:20141102T060000
END:STANDARD
BEGIN:DAYLIGHT
TZOFFSETFROM:-0500
TZOFFSETTO:-0400
TZNAME:EDT
DTSTART:20150308T070000
END:DAYLIGHT
BEGIN:STANDARD
TZOFFSETFROM:-0400
TZOFFSETTO:-0500
TZNAME:EST
DTSTART:20151101T060000
END:STANDARD
BEGIN:DAYLIGHT
TZOFFSETFROM:-0500
TZOFFSETTO:-0400
TZNAME:EDT
DTSTART:20160313T070000
END:DAYLIGHT
BEGIN:STANDARD
TZOFFSETFROM:-0400
TZOFFSETTO:-0500
TZNAME:EST
DTSTART:20161106T060000
END:STANDARD
BEGIN:DAYLIGHT
TZOFFSETFROM:-0500
TZOFFSETTO:-0400
TZNAME:EDT
DTSTART:20170312T070000
END:DAYLIGHT
BEGIN:STANDARD
TZOFFSETFROM:-0400
TZOFFSETTO:-0500
TZNAME:EST
DTSTART:20171105T060000
END:STANDARD
BEGIN:DAYLIGHT
TZOFFSETFROM:-0500
TZOFFSETTO:-0400
TZNAME:EDT
DTSTART:20180311T070000
END:DAYLIGHT
BEGIN:STANDARD
TZOFFSETFROM:-0400
TZOFFSETTO:-0500
TZNAME:EST
DTSTART:20181104T060000
END:STANDARD
BEGIN:DAYLIGHT
TZOFFSETFROM:-0500
TZOFFSETTO:-0400
TZNAME:EDT
DTSTART:20190310T070000
END:DAYLIGHT
BEGIN:STANDARD
TZOFFSETFROM:-0400
TZOFFSETTO:-0500
TZNAME:EST
DTSTART:20191103T060000
END:STANDARD
BEGIN:DAYLIGHT
TZOFFSETFROM:-0500
TZOFFSETTO:-0400
TZNAME:EDT
DTSTART:20200308T070000
END:DAYLIGHT
BEGIN:STANDARD
TZOFFSETFROM:-0400
TZOFFSETTO:-0500
TZNAME:EST
DTSTART:20201101T060000
END:STANDARD
BEGIN:DAYLIGHT
TZOFFSETFROM:-0500
TZOFFSETTO:-0400
TZNAME:EDT
DTSTART:20210314T070000
END:DAYLIGHT
BEGIN:STANDARD
TZOFFSETFROM:-0400
TZOFFSETTO:-0500
TZNAME:EST
DTSTART:20211107T060000
END:STANDARD
BEGIN:DAYLIGHT
TZOFFSETFROM:-0500
TZOFFSETTO:-0400
TZNAME:EDT
DTSTART:20220313T070000
END:DAYLIGHT
BEGIN:STANDARD
TZOFFSETFROM:-0400
TZOFFSETTO:-0500
TZNAME:EST
DTSTART:20221106T060000
END:STANDARD
BEGIN:DAYLIGHT
TZOFFSETFROM:-0500
TZOFFSETTO:-0400
TZNAME:EDT
DTSTART:20230312T070000
END:DAYLIGHT
BEGIN:STANDARD
TZOFFSETFROM:-0400
TZOFFSETTO:-0500
TZNAME:EST
DTSTART:20231105T060000
END:STANDARD
BEGIN:DAYLIGHT
TZOFFSETFROM:-0500
TZOFFSETTO:-0400
TZNAME:EDT
DTSTART:20240310T070000
END:DAYLIGHT
BEGIN:STANDARD
TZOFFSETFROM:-0400
TZOFFSETTO:-0500
TZNAME:EST
DTSTART:20241103T060000
END:STANDARD
END:VTIMEZONE
BEGIN:VEVENT
DTSTART;TZID=America/Detroit:20230915T080000
DTEND;TZID=America/Detroit:20230915T140000
DTSTAMP:20260423T150305
CREATED:20230515T145521Z
LAST-MODIFIED:20230515T145622Z
UID:10000007-1694764800-1694786400@nawickalamazoobc.org
SUMMARY:29th Annual Joint Golf Outing
DESCRIPTION:AIA |NAWIC | CFMA Golf Outing  | Friends | Food | Prizes | Sunshine (we hope) \n\n\n\nHere it is again golfers\, the best joint association golf outing in the construction industry.  \n\n\n\nJoin your friends and colleagues at Heritage Glen for a relaxing day of fun with every swing\, along with sponsorship and networking opportunities!All players from novice to experienced are welcome to play. All proceeds to benefit scholarships.To join in the fun\, please download and complete the sponsor and registration form HERE \n\n\n\nQuestions? Contact: Myndi Bacon 269-207-1584 \n\n\n\n  \n\n\n\nDownload the flyer   |  Download the sponsor and complete registration form by Sep 1 \n\n\n\n\n\n\nShare this:\n				Share on X (Opens in new window)\n				X\n			\n				Share on Facebook (Opens in new window)\n				Facebook\n			\n				Share on LinkedIn (Opens in new window)\n				LinkedIn\n			\n				Print (Opens in new window)\n				Print
URL:https://nawickalamazoobc.org/event_view/29th-annual-joint-golf-outing/
LOCATION:Heritage Glen Golf Club\, 29795 Heritage Ln\, Paw Paw\, MI\, 49079 \, United States
ATTACH;FMTTYPE=image/jpeg:https://nawickalamazoobc.org/wp-content/uploads/2023/05/2023Golf-Outing-thmb.jpg
GEO:42.2524927;-85.8425351
X-APPLE-STRUCTURED-LOCATION;VALUE=URI;X-ADDRESS=Heritage Glen Golf Club 29795 Heritage Ln Paw Paw MI 49079  United States;X-APPLE-RADIUS=500;X-TITLE=29795 Heritage Ln:geo:-85.8425351,42.2524927
END:VEVENT
BEGIN:VEVENT
DTSTART;TZID=America/Detroit:20220916T080000
DTEND;TZID=America/Detroit:20220916T170000
DTSTAMP:20260423T150305
CREATED:20220726T003134Z
LAST-MODIFIED:20220726T003250Z
UID:10000002-1663315200-1663347600@nawickalamazoobc.org
SUMMARY:28th Annual Golf Outing
DESCRIPTION:Registration: 8:00 am | Shotgun: 9:00 am \n\n\n\n\n\nGolf | Friends | Food | Prizes | Sunshine (we hope)Here it is again golfers\, the best joint association golf outing in the construction industry. Join your friends and colleagues for a relaxing day of fun with every swing\, along with sponsorship and networking opportunities!All players from novice to experienced are welcome to play. All proceeds to benefit scholarships.To join in the fun\, please send the completed registration form by September 9. \n\n\n\nQuestions? Contact: Myndi Bacon 269-207-1584 \n\n\n\nDownload the registration flyer \n\n\n\n\n\n\n\n \n\n\n\n\n\n\nShare this:\n				Share on X (Opens in new window)\n				X\n			\n				Share on Facebook (Opens in new window)\n				Facebook\n			\n				Share on LinkedIn (Opens in new window)\n				LinkedIn\n			\n				Print (Opens in new window)\n				Print
URL:https://nawickalamazoobc.org/event_view/28th-annual-golf-outing/
LOCATION:Heritage Glen Golf Club\, 29795 Heritage Ln\, Paw Paw\, MI\, 49079 \, United States
GEO:42.2524927;-85.8425351
X-APPLE-STRUCTURED-LOCATION;VALUE=URI;X-ADDRESS=Heritage Glen Golf Club 29795 Heritage Ln Paw Paw MI 49079  United States;X-APPLE-RADIUS=500;X-TITLE=29795 Heritage Ln:geo:-85.8425351,42.2524927
END:VEVENT
BEGIN:VEVENT
DTSTART;TZID=America/Detroit:20210917T080000
DTEND;TZID=America/Detroit:20210917T170000
DTSTAMP:20260423T150305
CREATED:20210810T191707Z
LAST-MODIFIED:20210810T192031Z
UID:10000060-1631865600-1631898000@nawickalamazoobc.org
SUMMARY:27th Annual Joint Golf Outing
DESCRIPTION:Download the registration form \n\n\n\nWhen: Friday\, September 17\, 2021 |  Registration: 8:00 am | Shotgun: 9:00 am \n\n\n\nGary and Laura Johnson Memorial EventGolf | Friends | Food | Prizes | Sunshine (we hope)Here it is again golfers\, the best joint association golf outing in the construction industry. Join your friends and colleagues for a relaxing day of fun with every swing\, along with sponsorship and networking opportunities!All players from novice to experienced are welcome to play. All proceeds to benefit scholarships.To join in the fun\, please send the completed registration form by September 17. \n\n\n\n \n\n\n\nQuestions? Call NAWIC member: Carol Patridge: (269) 329-7007 \n\n\n\n \nShare this:\n				Share on X (Opens in new window)\n				X\n			\n				Share on Facebook (Opens in new window)\n				Facebook\n			\n				Share on LinkedIn (Opens in new window)\n				LinkedIn\n			\n				Print (Opens in new window)\n				Print
URL:https://nawickalamazoobc.org/event_view/27th-annual-joint-golf-outing/
LOCATION:Heritage Glen Golf Club\, 29795 Heritage Ln\, Paw Paw\, MI\, 49079 \, United States
CATEGORIES:NAWIC membership meeting
GEO:42.2524927;-85.8425351
X-APPLE-STRUCTURED-LOCATION;VALUE=URI;X-ADDRESS=Heritage Glen Golf Club 29795 Heritage Ln Paw Paw MI 49079  United States;X-APPLE-RADIUS=500;X-TITLE=29795 Heritage Ln:geo:-85.8425351,42.2524927
END:VEVENT
BEGIN:VEVENT
DTSTART;TZID=America/Detroit:20200911T080000
DTEND;TZID=America/Detroit:20200911T150000
DTSTAMP:20260423T150305
CREATED:20200804T202839Z
LAST-MODIFIED:20200804T210034Z
UID:10000033-1599811200-1599836400@nawickalamazoobc.org
SUMMARY:26th Annual Joint Golf Outing
DESCRIPTION:When: Friday\, September 11\, 2020 |  Registration: 8:00 am | Shotgun: 9:00 am Where: Heritage Glen Golf Club\, 29795 Heritage Lane\, Paw Paw\, MI 49079\, USAGolf | Friends | Food | Prizes | Sunshine (we hope)Here it is again golfers\, the best joint association golf outing in the construction industry.  Join your friends and colleagues for a relaxing day of fun with every swing\,  along with sponsorship and networking opportunities!All players from novice to experienced are welcome to play. All proceeds to benefit scholarships. To join in the fun\, please send the completed registration form by September 3.Download registration here \nQuestions? Call NAWICc member: Carol Patridge: (269) 329-7007 \n \nShare this:\n				Share on X (Opens in new window)\n				X\n			\n				Share on Facebook (Opens in new window)\n				Facebook\n			\n				Share on LinkedIn (Opens in new window)\n				LinkedIn\n			\n				Print (Opens in new window)\n				Print
URL:https://nawickalamazoobc.org/event_view/26th-annual-joint-golf-outing/
LOCATION:Heritage Glen Golf Club\, 29795 Heritage Ln\, Paw Paw\, MI\, 49079 \, United States
CATEGORIES:NAWIC membership meeting
GEO:42.2524927;-85.8425351
X-APPLE-STRUCTURED-LOCATION;VALUE=URI;X-ADDRESS=Heritage Glen Golf Club 29795 Heritage Ln Paw Paw MI 49079  United States;X-APPLE-RADIUS=500;X-TITLE=29795 Heritage Ln:geo:-85.8425351,42.2524927
END:VEVENT
BEGIN:VEVENT
DTSTART;TZID=America/Detroit:20170922T100000
DTEND;TZID=America/Detroit:20170922T163000
DTSTAMP:20260423T150305
CREATED:20170831T140652Z
LAST-MODIFIED:20170908T192006Z
UID:10000045-1506074400-1506097800@nawickalamazoobc.org
SUMMARY:Golf Outing – Joint with AIA/NAWIC/CFMA
DESCRIPTION:When: September 22\, 2017 @ 10:00 am – 4:30 pm\nWhere: Heritage Glen Golf Club\, 29795 Heritage Lane\, Paw Paw\, MI 49079\, USA\n\nGolf | Friends | Food | Prizes | Sunshine (we hope) \nHere it is again golfers\, the best joint association golf outing in the construction industry. \n Join your friends and colleagues for a relaxing day of fun with every swing\,\n along with networking opportunities! \nAll players from novice to experienced are welcome to play. \nTo join in the fun please send the golf invitation completed registration form by September 5th \n♦ DOWNLOAD the registration and sponsorship form here \n\n  \nShare this:\n				Share on X (Opens in new window)\n				X\n			\n				Share on Facebook (Opens in new window)\n				Facebook\n			\n				Share on LinkedIn (Opens in new window)\n				LinkedIn\n			\n				Print (Opens in new window)\n				Print
URL:https://nawickalamazoobc.org/event_view/golf-outing-joint-with-aianawiccfma-heritage-glen-golf-club/
LOCATION:Heritage Glen Golf Club\, 29795 Heritage Ln\, Paw Paw\, MI\, 49079 \, United States
CATEGORIES:NAWIC membership meeting
GEO:42.2524927;-85.8425351
X-APPLE-STRUCTURED-LOCATION;VALUE=URI;X-ADDRESS=Heritage Glen Golf Club 29795 Heritage Ln Paw Paw MI 49079  United States;X-APPLE-RADIUS=500;X-TITLE=29795 Heritage Ln:geo:-85.8425351,42.2524927
END:VEVENT
BEGIN:VEVENT
DTSTART;TZID=America/Detroit:20160916T090000
DTEND;TZID=America/Detroit:20160916T153000
DTSTAMP:20260423T150305
CREATED:20160816T184243Z
LAST-MODIFIED:20160816T184243Z
UID:10000044-1474016400-1474039800@nawickalamazoobc.org
SUMMARY:Golf Outing - Joint with AIA/NAWIC/CFMA
DESCRIPTION:Golf | Friends | Food | Prizes | Sunshine (we hope)\nHere it is again golfers\, the best joint association golf outing in the construction industry.  Join your friends and colleagues for a relaxing day of fun with every swing\, along with networking opportunities! \nAll players from novice to experienced are welcome to play. \n♦ DOWNLOAD the registration form here \nFriday\, September 16\, 2016 Heritage Glen Golf Club\, Paw Paw\, Michigan Shotgun Start at 9:00 a.m. (please\, soft spikes only) For further information contact Carol Patridge (269) 329-7007 \nAIA Southwest Michigan (American Institute of Architects)  \nCFMA (Construction Financial Management Association) Western Michigan Chapter \nNAWIC Kalamazoo/Battle Creek chapter #302 \nShare this:\n				Share on X (Opens in new window)\n				X\n			\n				Share on Facebook (Opens in new window)\n				Facebook\n			\n				Share on LinkedIn (Opens in new window)\n				LinkedIn\n			\n				Print (Opens in new window)\n				Print
URL:https://nawickalamazoobc.org/event_view/golf-outing-joint-with-aianawiccfma/
LOCATION:Heritage Glen Golf Club\, 29795 Heritage Ln\, Paw Paw\, MI\, 49079 \, United States
GEO:42.2524927;-85.8425351
X-APPLE-STRUCTURED-LOCATION;VALUE=URI;X-ADDRESS=Heritage Glen Golf Club 29795 Heritage Ln Paw Paw MI 49079  United States;X-APPLE-RADIUS=500;X-TITLE=29795 Heritage Ln:geo:-85.8425351,42.2524927
END:VEVENT
BEGIN:VEVENT
DTSTART;TZID=America/Detroit:20160805T080000
DTEND;TZID=America/Detroit:20160805T170000
DTSTAMP:20260423T150305
CREATED:20160803T184746Z
LAST-MODIFIED:20160805T184834Z
UID:10000050-1470384000-1470416400@nawickalamazoobc.org
SUMMARY:Golf Outing - Joint with AIA/NAWIC/CFMA
DESCRIPTION:Golf | Friends | Food | Prizes | Sunshine (we hope)\nHere it is again golfers\, the best joint association golf outing in the construction industry.  Join your friends and colleagues for a relaxing day of fun with every swing\, along with networking opportunities! \nAll players from novice to experienced are welcome to play. \n♦ DOWNLOAD the registration form here \nFriday\, September 16\, 2016 Heritage Glen Golf Club\, Paw Paw\, Michigan Shotgun Start at 9:00 a.m. (please\, soft spikes only) For further information contact Carol Patridge (269) 329-7007 \nAIA Southwest Michigan (American Institute of Architects)  \nCFMA (Construction Financial Management Association) Western Michigan Chapter \nNAWIC Kalamazoo/Battle Creek chapter #302 \nShare this:\n				Share on X (Opens in new window)\n				X\n			\n				Share on Facebook (Opens in new window)\n				Facebook\n			\n				Share on LinkedIn (Opens in new window)\n				LinkedIn\n			\n				Print (Opens in new window)\n				Print
URL:https://nawickalamazoobc.org/event_view/4461/
LOCATION:Heritage Glen Golf Club\, 29795 Heritage Ln\, Paw Paw\, MI\, 49079 \, United States
CATEGORIES:NAWIC membership meeting
GEO:42.2524927;-85.8425351
X-APPLE-STRUCTURED-LOCATION;VALUE=URI;X-ADDRESS=Heritage Glen Golf Club 29795 Heritage Ln Paw Paw MI 49079  United States;X-APPLE-RADIUS=500;X-TITLE=29795 Heritage Ln:geo:-85.8425351,42.2524927
END:VEVENT
BEGIN:VEVENT
DTSTART;TZID=America/Detroit:20130906T094500
DTEND;TZID=America/Detroit:20130906T163000
DTSTAMP:20260423T150305
CREATED:20130613T233535Z
LAST-MODIFIED:20130917T153521Z
UID:10000048-1378460700-1378485000@nawickalamazoobc.org
SUMMARY:Annual Joint Golf Outing AIA/NAWIC/CFMA
DESCRIPTION:Golf | Friends | Food | Prizes  | Sunshine (we hope)\nHere it is again golfers\, the best joint golf outing in the construction industry. Join your friends and colleagues for a relaxing day of fun with every swing\,along with networking opportunities! \nAll players from novice to experienced are welcome to play. \nFriday\, September 6\, 2013Heritage Glen Golf Club\, Paw Paw\, MichiganShotgun Start at 10:00 a.m. (please\, soft spikes only)Download the entry form | For further information contact Carol Patridge (269) 329-7007 \nAIA Southwest Michigan (American Institute of Architects)  \nCFMA (Construction Financial Management Association) Western Michigan Chapter \nNAWIC Kalamazoo/Battle Creek chapter #302 \nShare this:\n				Share on X (Opens in new window)\n				X\n			\n				Share on Facebook (Opens in new window)\n				Facebook\n			\n				Share on LinkedIn (Opens in new window)\n				LinkedIn\n			\n				Print (Opens in new window)\n				Print
URL:https://nawickalamazoobc.org/event_view/1320/
LOCATION:Heritage Glen Golf Club\, 29795 Heritage Ln\, Paw Paw\, MI\, 49079 \, United States
CATEGORIES:NAWIC membership meeting
GEO:42.2524927;-85.8425351
X-APPLE-STRUCTURED-LOCATION;VALUE=URI;X-ADDRESS=Heritage Glen Golf Club 29795 Heritage Ln Paw Paw MI 49079  United States;X-APPLE-RADIUS=500;X-TITLE=29795 Heritage Ln:geo:-85.8425351,42.2524927
END:VEVENT
END:VCALENDAR