BEGIN:VCALENDAR
VERSION:2.0
PRODID:-//Kalamazoo / Battle Creek Chapter #302 | NAWIC - ECPv6.15.20//NONSGML v1.0//EN
CALSCALE:GREGORIAN
METHOD:PUBLISH
X-WR-CALNAME:Kalamazoo / Battle Creek Chapter #302 | NAWIC
X-ORIGINAL-URL:https://nawickalamazoobc.org
X-WR-CALDESC:Events for Kalamazoo / Battle Creek Chapter #302 | NAWIC
REFRESH-INTERVAL;VALUE=DURATION:PT1H
X-Robots-Tag:noindex
X-PUBLISHED-TTL:PT1H
BEGIN:VTIMEZONE
TZID:America/Detroit
BEGIN:DAYLIGHT
TZOFFSETFROM:-0500
TZOFFSETTO:-0400
TZNAME:EDT
DTSTART:20220313T070000
END:DAYLIGHT
BEGIN:STANDARD
TZOFFSETFROM:-0400
TZOFFSETTO:-0500
TZNAME:EST
DTSTART:20221106T060000
END:STANDARD
BEGIN:DAYLIGHT
TZOFFSETFROM:-0500
TZOFFSETTO:-0400
TZNAME:EDT
DTSTART:20230312T070000
END:DAYLIGHT
BEGIN:STANDARD
TZOFFSETFROM:-0400
TZOFFSETTO:-0500
TZNAME:EST
DTSTART:20231105T060000
END:STANDARD
BEGIN:DAYLIGHT
TZOFFSETFROM:-0500
TZOFFSETTO:-0400
TZNAME:EDT
DTSTART:20240310T070000
END:DAYLIGHT
BEGIN:STANDARD
TZOFFSETFROM:-0400
TZOFFSETTO:-0500
TZNAME:EST
DTSTART:20241103T060000
END:STANDARD
END:VTIMEZONE
BEGIN:VEVENT
DTSTART;TZID=America/Detroit:20230309T013000
DTEND;TZID=America/Detroit:20230309T040000
DTSTAMP:20260423T163005
CREATED:20230302T005935Z
LAST-MODIFIED:20230302T010156Z
UID:10000005-1678325400-1678334400@nawickalamazoobc.org
SUMMARY:SME lab tour and zoom presentation
DESCRIPTION:Join us for a zoom viewing event followed by a lab tour  •   Closed toe shoes required for tour\n1:30 – 2:30 pm EST\nEstablish Balance & Avoid Burnout – Invest in YOU!   presented by by Dr. Amelia Reigstad\, Ph.D.(members and guests from all over the country will be watching via zoom) \n3:00 pm\nNext up: A lab tour presented by SME at 3:00 p.m. EST with refreshments \nRegister (by noon on March 8) for viewing the presentation and lab tour⇒\nMore WIC Week events⇒ \n\nAbout SME: With deep knowledge of the ground\, environment\, and construction materials\, SME sees beyond the surface of issues. They ask the right questions to provide solutions that impact facilities or infrastructure operations. One vital part of the mix of the SME services is the physical testing of materials in building materials\, construction engineering inspection\, construction materials\, environmental\, geotechnical\, pavement\, survey\, steel/coatings/nondestructive testing \n  \n[Can’t attend in person? – Register here for the zoom meeting on your own] \n\n\n\nShare this:\n				Share on X (Opens in new window)\n				X\n			\n				Share on Facebook (Opens in new window)\n				Facebook\n			\n				Share on LinkedIn (Opens in new window)\n				LinkedIn\n			\n				Print (Opens in new window)\n				Print
URL:https://nawickalamazoobc.org/event_view/lab-tour-presented-by-sme/
LOCATION:SME\, 3301 Tech Cir\, Kalamazoo\, 49008
ATTACH;FMTTYPE=image/jpeg:https://nawickalamazoobc.org/wp-content/uploads/2023/03/sme_mar_23.jpg
END:VEVENT
END:VCALENDAR