BEGIN:VCALENDAR
VERSION:2.0
PRODID:-//Kalamazoo / Battle Creek Chapter #302 | NAWIC - ECPv6.15.20//NONSGML v1.0//EN
CALSCALE:GREGORIAN
METHOD:PUBLISH
X-WR-CALNAME:Kalamazoo / Battle Creek Chapter #302 | NAWIC
X-ORIGINAL-URL:https://nawickalamazoobc.org
X-WR-CALDESC:Events for Kalamazoo / Battle Creek Chapter #302 | NAWIC
REFRESH-INTERVAL;VALUE=DURATION:PT1H
X-Robots-Tag:noindex
X-PUBLISHED-TTL:PT1H
BEGIN:VTIMEZONE
TZID:America/Detroit
BEGIN:DAYLIGHT
TZOFFSETFROM:-0500
TZOFFSETTO:-0400
TZNAME:EDT
DTSTART:20190310T070000
END:DAYLIGHT
BEGIN:STANDARD
TZOFFSETFROM:-0400
TZOFFSETTO:-0500
TZNAME:EST
DTSTART:20191103T060000
END:STANDARD
BEGIN:DAYLIGHT
TZOFFSETFROM:-0500
TZOFFSETTO:-0400
TZNAME:EDT
DTSTART:20200308T070000
END:DAYLIGHT
BEGIN:STANDARD
TZOFFSETFROM:-0400
TZOFFSETTO:-0500
TZNAME:EST
DTSTART:20201101T060000
END:STANDARD
BEGIN:DAYLIGHT
TZOFFSETFROM:-0500
TZOFFSETTO:-0400
TZNAME:EDT
DTSTART:20210314T070000
END:DAYLIGHT
BEGIN:STANDARD
TZOFFSETFROM:-0400
TZOFFSETTO:-0500
TZNAME:EST
DTSTART:20211107T060000
END:STANDARD
END:VTIMEZONE
BEGIN:VEVENT
DTSTART;TZID=America/Detroit:20200219T173000
DTEND;TZID=America/Detroit:20200219T203000
DTSTAMP:20260423T183136
CREATED:20200112T132701Z
LAST-MODIFIED:20200112T140658Z
UID:10000051-1582133400-1582144200@nawickalamazoobc.org
SUMMARY:Tour: The Milton - Preserving the Image of Battle Creek
DESCRIPTION:More information is coming soon about this active construction tour – February 19!\n \nFormerly known as The Heritage Building in recent years\, The Milton is a 19-story mixed-use redevelopment project in downtown Battle Creek. The Milton luxury apartments are combined with retail and business space. Constructed in 1931 as the Old Merchants National Bank\, the building is listed in the National Register of Historic Places and is one of the last projects designed by Chicago architectural firm Weary and Alford. \nOur own NAWIC member\, Kate Shields\, a project estimator with glazing contractor Blackberry Systems in Kalamazoo\, worked on the project. She says\, “The Milton has been one of our most comprehensive restoration and replication projects that we have undertaken in the past 30 years. The 90-year-old project required us to not only restore historic metals\, decorative skylights\, and the original historic storefront\, but the steel windows also had to be completely replaced due to the poor condition they were in. The original steel windows had a unique design of a two-lite casement over a lower fixed transom with narrow stile sightlines\, posing a challenge to replicate.”  \nShare this:\n				Share on X (Opens in new window)\n				X\n			\n				Share on Facebook (Opens in new window)\n				Facebook\n			\n				Share on LinkedIn (Opens in new window)\n				LinkedIn\n			\n				Print (Opens in new window)\n				Print
URL:https://nawickalamazoobc.org/event_view/tour-the-milton-battle-creek/
LOCATION:The Milton\, 25 W Michigan Ave\, Battle Creek\, MI\, 49017
CATEGORIES:NAWIC membership meeting
ATTACH;FMTTYPE=image/jpeg:https://nawickalamazoobc.org/wp-content/uploads/2020/01/Milton_cover.jpg
GEO:42.3197299;-85.183494
X-APPLE-STRUCTURED-LOCATION;VALUE=URI;X-ADDRESS=The Milton 25 W Michigan Ave Battle Creek MI 49017;X-APPLE-RADIUS=500;X-TITLE=25 W Michigan Ave:geo:-85.183494,42.3197299
END:VEVENT
END:VCALENDAR